BEGIN:VCALENDAR
VERSION:2.0
PRODID:www.reiseregion-flaeming.de
BEGIN:VEVENT
UID:69ed141d06933
DTSTART:20260429T173000Z
SEQUENCE:0
TRANSP:OPAQUE
DTEND:20260429T193000Z
URL:http://www.reiseregion-flaeming.de/veranstaltung/elbe-elster-land/katri
 n-weber-sie-werden-lachen
LOCATION:Kulturweberei\, Oscar-Kjellberg-Straße 9\, 03238 Finsterwalde
X-APPLE-STRUCTURED-LOCATION;VALUE=URI;X-ADDRESS="Kulturweberei, Oscar-Kjell
 berg-Straße 9, 03238 Finsterwalde";X-APPLE-RADIUS=49;X-TITLE=Kulturwebere
 i:geo:13.705962,51.628162
GEO:13.705962;51.628162
SUMMARY:Katrin Weber - Sie werden lachen
CLASS:PUBLIC
DESCRIPTION:Katrin Weber liest quer durch die Kapitel ihres Buches „Sie w
 erden lachen“ und plaudert aus ihrem Leben voller Missgeschicke\, Pannen
  und Ungeschicktheiten\, die sie bis auf die Bühne verfolgten -- größte
 nteils ehrlich und umwerfend komisch. Sie werden lachen. Garantiert.  \nDi
 e kleine Katrin hatte es schwer. Zu dick\, zu langsam\, zu dusselig: Stehe
 n\, Laufen\, Pubertieren\, die Liebe. Mit allem war sie später dran als i
 hre Altersgenossen – bis aus dem hässlichen Entlein im Kindergarten des
  VEB Narva Glühlampenwerkes Plauen der strahlend schöne Schwan im Schein
 werferlicht der sächsischen Bühnen wurde. Mit Witz\, Charme und sächsis
 cher Schnauze glänzt Katrin Weber nach ihrer Gesangsausbildung und zahlre
 ichen Musical- und Fernsehrollen heute überwiegend im Kabarett. „Schwar
 ze Augen – Eine Nacht im Russenpuff“\, „Solo“ und „Nicht zu fass
 en“ heißen ihre umjubelten Programme. Außerdem steht sie als Entertain
 erin und Sängerin auf der Bühne. In ihrem Buch erzählt Katrin Weber vom
  Hin- und Auffallen.\n\nKontakt:\n\nKulturweberei\nOscar-Kjellberg-Straße
  9\n03238 Finsterwalde\nTelefon: +49 03531 5163110\nEmail: kulturweberei@f
 insterwalde.de\nWebseite: https://www.kulturweberei.com/\n\nWeitere Inform
 ationen zur Veranstaltung: http://www.reiseregion-flaeming.de/veranstaltun
 g/elbe-elster-land/katrin-weber-sie-werden-lachen
CATEGORIES:Lesung / Vortrag
DTSTAMP:20260425T192101Z
END:VEVENT
END:VCALENDAR