BEGIN:VCALENDAR
VERSION:2.0
PRODID:www.reiseregion-flaeming.de
BEGIN:VEVENT
UID:69eb86f9ae4d4
DTSTART:20260430T160000Z
SEQUENCE:0
TRANSP:OPAQUE
DTEND:20260430T180000Z
URL:http://www.reiseregion-flaeming.de/veranstaltung/flaeming/maibaumsetzen
 -in-zerbst-strich-anhalt
LOCATION:Schloss Zerbst\, Katharinenweg\, 39261 Zerbst/Anhalt
X-APPLE-STRUCTURED-LOCATION;VALUE=URI;X-ADDRESS="Schloss Zerbst, Katharinen
 weg, 39261 Zerbst/Anhalt";X-APPLE-RADIUS=49;X-TITLE=Schloss Zerbst:geo:12.
 082218,51.963580
GEO:12.082218;51.963580
SUMMARY:Maibaumsetzen in Zerbst/Anhalt
CLASS:PUBLIC
DESCRIPTION:Die Stadt Zerbst/Anhalt und die Zerbster Ortswehr laden zum tra
 ditionellen Maibaumsetzen ein. Ein Umzug\, musikalisch begleitet vom Spiel
 mannszug Lindau e. V.\, führt vom Schlossplatz zum Markt\, wo Mitglieder 
 der Ortswehr Zerbst den Maibaumkranz hochziehen. Bürgermeister Andreas Di
 ttmann richtet ein Grußwort an die Anwesenden\, für das leibliche Wohl i
 st gesorgt. Auch in den Ortschaften wird die Tradition gelebt: In Bias\, D
 eetz\, Grimme\, Güterglück\, Jütrichau\, Leps\, Lindau\, Nedlitz\, Stec
 kby\, Straguth\, Walternienburg und Zernitz wird der Maibaum aufgestellt. 
 In Mühro brennt ein Maifeuer\, in Reuden/Anhalt wird getanzt.\n\nKontakt:
 \n\nStadt Zerbst\nSchloßfreiheit 12\n39261 Zerbst/Anhalt\nTelefon: +49 03
 923 754-1545\nEmail: gerit.berzau@stadt-zerbst.de\nWebseite: https://www.s
 tadt-zerbst.de\n\nWeitere Informationen zur Veranstaltung: http://www.reis
 eregion-flaeming.de/veranstaltung/flaeming/maibaumsetzen-in-zerbst-strich-
 anhalt
CATEGORIES:Fest / Brauchtum
DTSTAMP:20260424T150633Z
END:VEVENT
END:VCALENDAR