BEGIN:VCALENDAR
VERSION:2.0
PRODID:www.reiseregion-flaeming.de
BEGIN:VEVENT
UID:69eaf8a8180b4
DTSTART:20260425T110000Z
SEQUENCE:0
TRANSP:OPAQUE
DTEND:20260425T160000Z
URL:http://www.reiseregion-flaeming.de/veranstaltung/flaeming/fruehlingsfes
 t-im-amtspark-in-brueck
LOCATION:Amt Brück\, Ernst-Thälmann-Straße 59\, 14822 Brück
X-APPLE-STRUCTURED-LOCATION;VALUE=URI;X-ADDRESS="Amt Brück, Ernst-Thälman
 n-Straße 59, 14822 Brück";X-APPLE-RADIUS=49;X-TITLE=Amt Brück:geo:12.83
 4849,52.258870
GEO:12.834849;52.258870
SUMMARY:Frühlingsfest im Amtspark in Brück
CLASS:PUBLIC
DESCRIPTION:Das Frühlingsfest des Tourismusvereins Zauche-Fläming e. V. i
 n Zusammenarbeit mit der Stadt Brück bietet ein farbenfrohes Fest der Ver
 eine mit zahlreichen Bühnenauftritten. Zu erleben sind unter anderem die 
 AWO-Tänzer\, die Linedance-Gruppe Happy Boots\, die Chaos Kids und Konfet
 ti Kids des Brücker Karnevalsclubs\, die Trappenhühner und Golden Sister
 s des Damelanger Fastnachts- und Freizeitvereins sowie die Minimeter des G
 KK Golzow. Im Geschichtszimmer erinnert Gründungs-Amtsdirektor Dr. Hartmu
 t Schemel anlässlich des 30. Jahrestages der Grundsteinlegung des Amtsgeb
 äudes an die Entstehung des Stadtzentrums und die Amtsgründung. Für Unt
 erhaltung sorgen außerdem Kinderkarussell\, Entenangeln und die beliebte 
 Bungee-Spinne. Vor Ort sind Feuerwehr\, DLRG\, Kitavereine und die Ackerö
 ler mit Traktoren. Die Vereine bieten Kaffee\, Kuchen und Eis an\; die 11.
  Klasse des Fläming-Gymnasiums backt für ihren Abiball nach eigenen Reze
 pten. Wer Herzhaftes bevorzugt\, findet Backschwein und Gegrilltes. Der Ei
 ntritt ist frei.\n\nKontakt:\n\nAmt Brück\nErnst-Thälmann-Str. 59\n14822
  Brück\nTelefon: +49 33844 620\nEmail: info@amt-brueck.de\n\nWeitere Info
 rmationen zur Veranstaltung: http://www.reiseregion-flaeming.de/veranstalt
 ung/flaeming/fruehlingsfest-im-amtspark-in-brueck
CATEGORIES:Fest / Brauchtum
DTSTAMP:20260424T045920Z
END:VEVENT
END:VCALENDAR