BEGIN:VCALENDAR
VERSION:2.0
PRODID:www.reiseregion-flaeming.de
BEGIN:VEVENT
UID:69ed51838adc2
DTSTART:20260620T120000Z
SEQUENCE:0
TRANSP:OPAQUE
DTEND:20260620T150000Z
URL:http://www.reiseregion-flaeming.de/veranstaltung/flaeming/nature-writin
 g-natur-be-schreiben
LOCATION:Schloss Wiesenburg\, Schlossstraße 1\, 14827 Wiesenburg
X-APPLE-STRUCTURED-LOCATION;VALUE=URI;X-ADDRESS="Schloss Wiesenburg, Schlos
 sstraße 1, 14827 Wiesenburg";X-APPLE-RADIUS=49;X-TITLE=Schloss Wiesenburg
 :geo:12.452424,52.112658
GEO:12.452424;52.112658
SUMMARY:Nature Writing - Natur (be)schreiben
CLASS:PUBLIC
DESCRIPTION:Im dreistündigen Workshop lernen Sie das literarische Genre de
 s Nature Writing kennen und probieren sich vor Ort im bezaubernden Schloss
 park Wiesenburg im Hohen Fläming selbst darin aus.\n\nNach einem kurzen I
 nput zum Nature Writing erhalten Sie die Möglichkeit\, die Natur des Park
 s mit allen Sinnen zu erfahren\, den Alltag hinter sich zu lassen und die 
 Naturbeobachtungen in Ihren eigenen Worten niederzuschreiben. Am Ende best
 eht die Möglichkeit die Verschriftlichungen einander vorzutragen.\n\nDie 
 Qualität und die Richtigkeit des Schreibens stehen im Hintergrund. Vielme
 hr möchte der Workshop das Angebot machen\, mit Achtsamkeitsübungen zu e
 ntschleunigen\, die Ruhe und die Lebendigkeit der Natur bewusst zu erleben
  und im Hier und Jetzt anzukommen. Zudem besteht die Möglichkeit\, die he
 ilsame Wirkung des Schreibens und des sich Ausdrückens zu erfahren. Sie b
 enötigen keine Vorkenntnisse oder besondere Affinität für das literaris
 che Schreiben.\n\nWir treffen uns vor der Touristerei.\n\nIch freue mich a
 uf Sie!\n\n**Hinweis**\n\nSchreibutensilien\, eine Schreibunterlage\, eine
  Sitzunterlage (ggf. Dreibein/Campinghocker\,) wetterfeste Kleidung\, Sonn
 en- und Insektenschutz\, Getränke und ein Snack für zwischendurch.\n\nKo
 ntakt:\n\nKreismusikschule und Kreisvolkshochschule Potsdam Mittelmark Gmb
 H\nPuschkinstraße 13\n14806 Bad Belzig\nTelefon: +49 33841 45430\nEmail: 
 info@kvhs-pm.de\n\nWeitere Informationen zur Veranstaltung: http://www.rei
 seregion-flaeming.de/veranstaltung/flaeming/nature-writing-natur-be-schrei
 ben
CATEGORIES:Workshop / Seminar
DTSTAMP:20260425T234259Z
END:VEVENT
END:VCALENDAR