BEGIN:VCALENDAR
VERSION:2.0
PRODID:www.reiseregion-flaeming.de
BEGIN:VEVENT
UID:69ed3c41c363f
DTSTART:20260509T080000Z
SEQUENCE:0
TRANSP:OPAQUE
DTEND:20260509T110000Z
URL:http://www.reiseregion-flaeming.de/veranstaltung/flaeming/mitkochen-mit
 lachen-picknick-geniessen-i-familienkueche
LOCATION:Schloss Wiesenburg\, Schlossstraße 1\, 14827 Wiesenburg
X-APPLE-STRUCTURED-LOCATION;VALUE=URI;X-ADDRESS="Schloss Wiesenburg, Schlos
 sstraße 1, 14827 Wiesenburg";X-APPLE-RADIUS=49;X-TITLE=Schloss Wiesenburg
 :geo:12.452424,52.112658
GEO:12.452424;52.112658
SUMMARY:Mitkochen\, Mitlachen\, Picknick genießen I Familienküche
CLASS:PUBLIC
DESCRIPTION:Kochen macht Kindern besonders viel Freude\, wenn sie selbst mi
 t anpacken dürfen. Kinder und ihre Eltern schnippeln\, rühren und probie
 ren gemeinsam bunte Gerichte\, die leicht gelingen und sich perfekt für e
 in Picknick eignen.\n\nNach dem Kochen packen wir alles zusammen und genie
 ßen unsere Leckereien draußen. Die Kinder erzählen dabei kleine Geschic
 hten zu ihren Lieblingszutaten - mal witzig\, mal überraschend.\n\nEin Sa
 mstagvormittag\, der Familien verbindet\, Spaß am Kochen weckt und frisch
 e Ideen für Zuhause liefert.\n\nEs fallen pro teilnehmende Person 7\,50 
 € in bar für Lebensmittel an.\n\n**Hinweis**\n\nBringen Sie 7\,50 € p
 ro Person für die Lebensmittel und gerne Behälter mit\, um Reste der zub
 ereiteten Gerichte mit nach Hause zu nehmen.\n\nKontakt:\n\nKreismusikschu
 le und Kreisvolkshochschule Potsdam Mittelmark GmbH\nPuschkinstraße 13\n1
 4806 Bad Belzig\nTelefon: +49 33841 45430\nEmail: info@kvhs-pm.de\n\nWeite
 re Informationen zur Veranstaltung: http://www.reiseregion-flaeming.de/ver
 anstaltung/flaeming/mitkochen-mitlachen-picknick-geniessen-i-familienkuech
 e
CATEGORIES:Essen und Trinken,Kinder und Jugendliche
DTSTAMP:20260425T221217Z
END:VEVENT
END:VCALENDAR