BEGIN:VCALENDAR
VERSION:2.0
PRODID:www.reiseregion-flaeming.de
BEGIN:VEVENT
UID:69ebbba245e82
DTSTART:20260508T140000Z
SEQUENCE:0
TRANSP:OPAQUE
DTEND:20260508T170000Z
URL:http://www.reiseregion-flaeming.de/veranstaltung/flaeming/naturgarten-g
 estaltung-mit-kreativitaet-neue-lebensraeume-schaffen
LOCATION:Kreisvolkshochschule Potsdam-Mittelmark\, Standort Bad Belzig\, Pu
 schkinstr.  13\, 14806 Bad Belzig
X-APPLE-STRUCTURED-LOCATION;VALUE=URI;X-ADDRESS="Kreisvolkshochschule Potsd
 am-Mittelmark, Standort Bad Belzig, Puschkinstr.  13, 14806 Bad Belzig";X-
 APPLE-RADIUS=49;X-TITLE="Kreisvolkshochschule Potsdam-Mittelmark, Standort
  Bad Belzig":geo:12.583506,52.144377
GEO:12.583506;52.144377
SUMMARY:Naturgarten-Gestaltung - Mit Kreativität neue Lebensräume schaffe
 n
CLASS:PUBLIC
DESCRIPTION:Schon der berühmte Staudenzüchter und Gartenphilosoph Karl Fo
 erster (1874-1970) wusste: \"Wer mit seinem Garten schon zufrieden ist\, h
 at ihn nicht verdient.\" Daher gibt es immer einen guten Grund\, einen Gar
 ten ganz oder in Teilen neu- oder umzugestalten. Doch nicht wenige Gartenb
 esitzer fühlen sich dieser\, eigentlich ebenso kreativen\, wie interessan
 ten\, Aufgabe nicht gewachsen und sehen sich stattdessen vor einem schier 
 unüberwindlichen Berg an Fragen: Wo und wie fange ich am besten an? Wie s
 chaffe ich es\, den Garten pflegeleicht zu designen? Wie gelingt es\, einz
 elne (bereits vorhandene) Gestaltungselemente harmonisch miteinander zu ve
 rbinden? Welche Pflanzen eignen sich für meinen Garten? Welche rechtliche
 n Vorschriften sind bei der Gartengestaltung zu beachten? u.v.m. ... Im er
 sten Teil dieses Kurses erhalten Sie zunächst einen kleinen Überblick zu
  den o.g. theoretischen Fragen.\n\nDer zweite Kurstag bietet Ihnen die Mö
 glichkeit\, erste Ideenskizzen für die Gestaltung Ihres Gartens anzuferti
 gen: Für die Vorbereitung darauf fotografieren Sie bitte einen Gartenbere
 ich\, den Sie um- oder neugestalten möchten. Sofern Sie möchten\, drucke
 n Sie eins dieser Fotos bitte im DIN A4-Format aus und bringen es zum Kurs
  mit. Andernfalls genügen auch die Bilder auf Ihrem Smartphone als \"Geda
 nkenstütze\". Überlegen Sie sich bitte gleichzeitig\, was Sie in diesem 
 Gartenbereich ändern möchten\, welche Funktion er bekommen\, wie er genu
 tzt werden soll. Anhand der Fotos\, Ihrer Wünsche und mit Hilfe der am Vo
 rtag frisch erworbenen Kenntnisse sowie mit Unterstützung der Kursleiteri
 n können Sie sich nun an erste Ideenskizzen für die Gestaltung Ihres Gar
 tenbereichs wagen. Eine Liste mit weiterführenden Informationen\, nützli
 chen Internet-Links und ausgewählten Bezugsquellen wird Ihnen von der Kur
 sleiterin bereitgestellt.\n\nKontakt:\n\nKreismusikschule und Kreisvolksho
 chschule Potsdam Mittelmark GmbH\nPuschkinstraße 13\n14806 Bad Belzig\nTe
 lefon: +49 33841 45430\nEmail: info@kvhs-pm.de\n\nWeitere Informationen zu
 r Veranstaltung: http://www.reiseregion-flaeming.de/veranstaltung/flaeming
 /naturgarten-gestaltung-mit-kreativitaet-neue-lebensraeume-schaffen
CATEGORIES:Workshop / Seminar
DTSTAMP:20260424T185114Z
END:VEVENT
BEGIN:VEVENT
UID:69ebbba24e8b4
DTSTART:20260509T070000Z
SEQUENCE:0
TRANSP:OPAQUE
DTEND:20260509T110000Z
URL:http://www.reiseregion-flaeming.de/veranstaltung/flaeming/naturgarten-g
 estaltung-mit-kreativitaet-neue-lebensraeume-schaffen
LOCATION:Kreisvolkshochschule Potsdam-Mittelmark\, Standort Bad Belzig\, Pu
 schkinstr.  13\, 14806 Bad Belzig
X-APPLE-STRUCTURED-LOCATION;VALUE=URI;X-ADDRESS="Kreisvolkshochschule Potsd
 am-Mittelmark, Standort Bad Belzig, Puschkinstr.  13, 14806 Bad Belzig";X-
 APPLE-RADIUS=49;X-TITLE="Kreisvolkshochschule Potsdam-Mittelmark, Standort
  Bad Belzig":geo:12.583506,52.144377
GEO:12.583506;52.144377
SUMMARY:Naturgarten-Gestaltung - Mit Kreativität neue Lebensräume schaffe
 n
CLASS:PUBLIC
DESCRIPTION:Schon der berühmte Staudenzüchter und Gartenphilosoph Karl Fo
 erster (1874-1970) wusste: \"Wer mit seinem Garten schon zufrieden ist\, h
 at ihn nicht verdient.\" Daher gibt es immer einen guten Grund\, einen Gar
 ten ganz oder in Teilen neu- oder umzugestalten. Doch nicht wenige Gartenb
 esitzer fühlen sich dieser\, eigentlich ebenso kreativen\, wie interessan
 ten\, Aufgabe nicht gewachsen und sehen sich stattdessen vor einem schier 
 unüberwindlichen Berg an Fragen: Wo und wie fange ich am besten an? Wie s
 chaffe ich es\, den Garten pflegeleicht zu designen? Wie gelingt es\, einz
 elne (bereits vorhandene) Gestaltungselemente harmonisch miteinander zu ve
 rbinden? Welche Pflanzen eignen sich für meinen Garten? Welche rechtliche
 n Vorschriften sind bei der Gartengestaltung zu beachten? u.v.m. ... Im er
 sten Teil dieses Kurses erhalten Sie zunächst einen kleinen Überblick zu
  den o.g. theoretischen Fragen.\n\nDer zweite Kurstag bietet Ihnen die Mö
 glichkeit\, erste Ideenskizzen für die Gestaltung Ihres Gartens anzuferti
 gen: Für die Vorbereitung darauf fotografieren Sie bitte einen Gartenbere
 ich\, den Sie um- oder neugestalten möchten. Sofern Sie möchten\, drucke
 n Sie eins dieser Fotos bitte im DIN A4-Format aus und bringen es zum Kurs
  mit. Andernfalls genügen auch die Bilder auf Ihrem Smartphone als \"Geda
 nkenstütze\". Überlegen Sie sich bitte gleichzeitig\, was Sie in diesem 
 Gartenbereich ändern möchten\, welche Funktion er bekommen\, wie er genu
 tzt werden soll. Anhand der Fotos\, Ihrer Wünsche und mit Hilfe der am Vo
 rtag frisch erworbenen Kenntnisse sowie mit Unterstützung der Kursleiteri
 n können Sie sich nun an erste Ideenskizzen für die Gestaltung Ihres Gar
 tenbereichs wagen. Eine Liste mit weiterführenden Informationen\, nützli
 chen Internet-Links und ausgewählten Bezugsquellen wird Ihnen von der Kur
 sleiterin bereitgestellt.\n\nKontakt:\n\nKreismusikschule und Kreisvolksho
 chschule Potsdam Mittelmark GmbH\nPuschkinstraße 13\n14806 Bad Belzig\nTe
 lefon: +49 33841 45430\nEmail: info@kvhs-pm.de\n\nWeitere Informationen zu
 r Veranstaltung: http://www.reiseregion-flaeming.de/veranstaltung/flaeming
 /naturgarten-gestaltung-mit-kreativitaet-neue-lebensraeume-schaffen
CATEGORIES:Workshop / Seminar
DTSTAMP:20260424T185114Z
END:VEVENT
END:VCALENDAR