BEGIN:VCALENDAR
VERSION:2.0
PRODID:www.reiseregion-flaeming.de
BEGIN:VEVENT
UID:69eb06bdb27ae
DTSTART:20260428T123000Z
SEQUENCE:0
TRANSP:OPAQUE
DTEND:20260428T140000Z
URL:http://www.reiseregion-flaeming.de/veranstaltung/potsdam/rente-und-steu
 ern-finanzamt-vor-ort
LOCATION:Haus der Begegnung\, Zum Teufelssee 30\, 14478 Potsdam
X-APPLE-STRUCTURED-LOCATION;VALUE=URI;X-ADDRESS="Haus der Begegnung, Zum Te
 ufelssee 30, 14478 Potsdam";X-APPLE-RADIUS=49;X-TITLE=Haus der Begegnung:g
 eo:13.091164,52.359582
GEO:13.091164;52.359582
SUMMARY:Rente und Steuern - Finanzamt vor Ort
CLASS:PUBLIC
DESCRIPTION:Steuertipps für Senior*innen – verständlich erklärt\n\nAm 
 28. April 2026 von 14:00 bis 15:30 Uhr lädt der Seniorenbeirat zu einer I
 nformationsveranstaltung ins Haus der Begegnung (Zum Teufelssee 30) ein.\n
 \nIm Mittelpunkt stehen praktische Hinweise zur Steuerpflicht\, zur digita
 len Abgabe der Steuererklärung sowie Antworten auf Fragen\, die insbesond
 ere Seniorinnen und Senioren betreffen. Auch Angehörige erhalten hilfreic
 he Tipps\, etwa zur Unterstützung im Alltag oder zu steuerlichen Fragen i
 m Erbfall.\n\nEine Anmeldung ist nicht erforderlich\, aber wünschenswert 
 unter: 0331 270 29 26\n\nKontakt:\n\nHaus 1\, Raum 145\nHegelallee  6\n144
 67 Potsdam\nTelefon: +49 0331  289-34 39\nEmail: seniorenbuero@rathaus.pot
 sdam.de\nWebseite: https://www.potsdam.de/de/seniorenbeirat-der-landeshaup
 tstadt-potsdam-0\n\nWeitere Informationen zur Veranstaltung: http://www.re
 iseregion-flaeming.de/veranstaltung/potsdam/rente-und-steuern-finanzamt-vo
 r-ort
CATEGORIES:Workshop / Seminar
DTSTAMP:20260424T055925Z
END:VEVENT
END:VCALENDAR