BEGIN:VCALENDAR
VERSION:2.0
PRODID:www.reiseregion-flaeming.de
BEGIN:VEVENT
UID:69eb4e1cc5ca0
DTSTART:20260425T180000Z
SEQUENCE:0
TRANSP:OPAQUE
DTEND:20260425T193000Z
URL:http://www.reiseregion-flaeming.de/veranstaltung/flaeming/juergen-saalm
 ann-solo-a-voyage
LOCATION:Kirche Meßdunk\, Meßdunker Straße\, 14797 Kloster Lehnin
X-APPLE-STRUCTURED-LOCATION;VALUE=URI;X-ADDRESS="Kirche Meßdunk, Meßdunke
 r Straße, 14797 Kloster Lehnin";X-APPLE-RADIUS=49;X-TITLE=Kirche Meßdunk
 :geo:12.544046,52.328732
GEO:12.544046;52.328732
SUMMARY:Jürgen Saalmann SOLO “A VOYAGE”
CLASS:PUBLIC
DESCRIPTION:Jürgen Saalmann jongliert elegant wie ein Artist zwischen Genr
 en wie Klassik\, Ambient\, Ethno und Pop. Er verwandelt sich dabei in ein 
 komplexes Ein-Mann-Ensemble aus Konzertgitarren\, Percussion\, Bass\, Soun
 dscapes\, programmierten oder live eingespielten Loops\, um wenige Augenbl
 icke später wieder nur mit dem reinen Naturklang seiner Nylongitarre zu v
 erzaubern.\n\nKontakt:\n\nJUST Kultur e.V.\nAm Dorfanger 187\n14797 Kloste
 r Lehnin\nTelefon: \nEmail: katjamuellerzahn@gmx.de\nWebseite: https://jus
 tkultur.de/\n\nWeitere Informationen zur Veranstaltung: http://www.reisere
 gion-flaeming.de/veranstaltung/flaeming/juergen-saalmann-solo-a-voyage
CATEGORIES:Chor / Folklore / Volksmusik
DTSTAMP:20260424T110356Z
END:VEVENT
END:VCALENDAR