BEGIN:VCALENDAR
VERSION:2.0
PRODID:www.reiseregion-flaeming.de
BEGIN:VEVENT
UID:69eb62c0ecc4d
DTSTART:20260502T120000Z
SEQUENCE:0
TRANSP:OPAQUE
DTEND:20260502T160000Z
URL:http://www.reiseregion-flaeming.de/veranstaltung/havelland/offene-ateli
 ers-2026-die-goldschmiedin
LOCATION:Die Goldschmiedin\, Steinstraße 39\, 14776 Brandenburg an der Hav
 el
X-APPLE-STRUCTURED-LOCATION;VALUE=URI;X-ADDRESS="Die Goldschmiedin, Steinst
 raße 39, 14776 Brandenburg an der Havel";X-APPLE-RADIUS=49;X-TITLE=Die Go
 ldschmiedin:geo:12.558607,52.405861
GEO:12.558607;52.405861
SUMMARY:Offene Ateliers 2026 - Die Goldschmiedin
CLASS:PUBLIC
DESCRIPTION:Goldschmiede\n\nKreative Mitmach-Werkstatt\n\nEin besonderes Hi
 ghlight in diesem Jahr:\n\nEine kostenlose Mappe steht allen Interessierte
 n zur Verfügung! Diese kann bereits eine Woche vor den Offenen Ateliers i
 n der Kunsthalle abgeholt werden.\n\nDie Kunstmappe lädt dazu ein\, indiv
 iduell befüllt zu werden – mit Skizzen\, Drucken\, kleinen Originalen\,
  Stempeln oder anderen kreativen Beiträgen aus den teilnehmenden Ateliers
 . So entsteht eine ganz persönliche Sammlung und bleibende Erinnerung an 
 das Kunstwochenende. Ab eine Woche vor dem Veranstaltungswochenende in der
  Kunsthalle Brennabor\, Geschwister-Scholl-Straße 12 (Fr\, Sa und So: 13 
 – 18 Uhr) oder direkt am Kunstwochenende.\n\nKontakt:\n\nKulturbüro der
  Stadt Brandenburg an der Havel\nJohanneskirchplatz 4\n14770 Brandenburg a
 n der Havel\nTelefon: +49 3381 587070\nEmail: kultur@stadt-brandenburg.de\
 nWebseite: https://kulturbuero.stadt-brandenburg.de/\n\nWeitere Informatio
 nen zur Veranstaltung: http://www.reiseregion-flaeming.de/veranstaltung/ha
 velland/offene-ateliers-2026-die-goldschmiedin
CATEGORIES:Ausstellung
DTSTAMP:20260424T123200Z
END:VEVENT
BEGIN:VEVENT
UID:69eb62c0ee724
DTSTART:20260503T090000Z
SEQUENCE:0
TRANSP:OPAQUE
DTEND:20260503T160000Z
URL:http://www.reiseregion-flaeming.de/veranstaltung/havelland/offene-ateli
 ers-2026-die-goldschmiedin
LOCATION:Die Goldschmiedin\, Steinstraße 39\, 14776 Brandenburg an der Hav
 el
X-APPLE-STRUCTURED-LOCATION;VALUE=URI;X-ADDRESS="Die Goldschmiedin, Steinst
 raße 39, 14776 Brandenburg an der Havel";X-APPLE-RADIUS=49;X-TITLE=Die Go
 ldschmiedin:geo:12.558607,52.405861
GEO:12.558607;52.405861
SUMMARY:Offene Ateliers 2026 - Die Goldschmiedin
CLASS:PUBLIC
DESCRIPTION:Goldschmiede\n\nKreative Mitmach-Werkstatt\n\nEin besonderes Hi
 ghlight in diesem Jahr:\n\nEine kostenlose Mappe steht allen Interessierte
 n zur Verfügung! Diese kann bereits eine Woche vor den Offenen Ateliers i
 n der Kunsthalle abgeholt werden.\n\nDie Kunstmappe lädt dazu ein\, indiv
 iduell befüllt zu werden – mit Skizzen\, Drucken\, kleinen Originalen\,
  Stempeln oder anderen kreativen Beiträgen aus den teilnehmenden Ateliers
 . So entsteht eine ganz persönliche Sammlung und bleibende Erinnerung an 
 das Kunstwochenende. Ab eine Woche vor dem Veranstaltungswochenende in der
  Kunsthalle Brennabor\, Geschwister-Scholl-Straße 12 (Fr\, Sa und So: 13 
 – 18 Uhr) oder direkt am Kunstwochenende.\n\nKontakt:\n\nKulturbüro der
  Stadt Brandenburg an der Havel\nJohanneskirchplatz 4\n14770 Brandenburg a
 n der Havel\nTelefon: +49 3381 587070\nEmail: kultur@stadt-brandenburg.de\
 nWebseite: https://kulturbuero.stadt-brandenburg.de/\n\nWeitere Informatio
 nen zur Veranstaltung: http://www.reiseregion-flaeming.de/veranstaltung/ha
 velland/offene-ateliers-2026-die-goldschmiedin
CATEGORIES:Ausstellung
DTSTAMP:20260424T123200Z
END:VEVENT
END:VCALENDAR