BEGIN:VCALENDAR
VERSION:2.0
PRODID:www.reiseregion-flaeming.de
BEGIN:VEVENT
UID:69eb4df22eda9
DTSTART:20260502T120000Z
SEQUENCE:0
TRANSP:OPAQUE
DTEND:20260502T160000Z
URL:http://www.reiseregion-flaeming.de/veranstaltung/havelland/offene-ateli
 ers-2026-atelier-katrin-tosch
LOCATION:Atelier Katrin Tosch\, Eichhorstweg 37b\, 14776 Brandenburg an der
  Havel
X-APPLE-STRUCTURED-LOCATION;VALUE=URI;X-ADDRESS="Atelier Katrin Tosch, Eich
 horstweg 37b, 14776 Brandenburg an der Havel";X-APPLE-RADIUS=49;X-TITLE=At
 elier Katrin Tosch:geo:12.537757,52.373079
GEO:12.537757;52.373079
SUMMARY:Offene Ateliers 2026 - Atelier Katrin Tosch
CLASS:PUBLIC
DESCRIPTION:Öl\, Acryl\, Aquarell\, Pastell-Gemälde\, Happy-Painting – 
 Grußkarten\, Lesezeichen\, Hauswandbemalung\, Gartengestaltung\n\nEin bes
 onderes Highlight in diesem Jahr:\n\nEine kostenlose Mappe steht allen Int
 eressierten zur Verfügung! Diese kann bereits eine Woche vor den Offenen 
 Ateliers in der Kunsthalle abgeholt werden.\n\nDie Kunstmappe lädt dazu e
 in\, individuell befüllt zu werden – mit Skizzen\, Drucken\, kleinen Or
 iginalen\, Stempeln oder anderen kreativen Beiträgen aus den teilnehmende
 n Ateliers. So entsteht eine ganz persönliche Sammlung und bleibende Erin
 nerung an das Kunstwochenende. Ab eine Woche vor dem Veranstaltungswochene
 nde in der Kunsthalle Brennabor\, Geschwister-Scholl-Straße 12 (Fr\, Sa u
 nd So: 13 – 18 Uhr) oder direkt am Kunstwochenende.\n\nKontakt:\n\nKultu
 rbüro der Stadt Brandenburg an der Havel\nJohanneskirchplatz 4\n14770 Bra
 ndenburg an der Havel\nTelefon: +49 3381 587070\nEmail: kultur@stadt-brand
 enburg.de\nWebseite: https://kulturbuero.stadt-brandenburg.de/\n\nWeitere 
 Informationen zur Veranstaltung: http://www.reiseregion-flaeming.de/verans
 taltung/havelland/offene-ateliers-2026-atelier-katrin-tosch
CATEGORIES:Ausstellung
DTSTAMP:20260424T110314Z
END:VEVENT
END:VCALENDAR