BEGIN:VCALENDAR
VERSION:2.0
PRODID:www.reiseregion-flaeming.de
BEGIN:VEVENT
UID:69eb4e9704e12
DTSTART:20260502T120000Z
SEQUENCE:0
TRANSP:OPAQUE
DTEND:20260502T170000Z
URL:http://www.reiseregion-flaeming.de/veranstaltung/havelland/offene-ateli
 ers-2026-atelier-heinich
LOCATION:Atelier Heinich\, Genthiner Straße 18\, 14774 Brandenburg an der 
 Havel
X-APPLE-STRUCTURED-LOCATION;VALUE=URI;X-ADDRESS="Atelier Heinich, Genthiner
  Straße 18, 14774 Brandenburg an der Havel";X-APPLE-RADIUS=49;X-TITLE=Ate
 lier Heinich:geo:12.420066,52.409444
GEO:12.420066;52.409444
SUMMARY:Offene Ateliers 2026 - Atelier Heinich
CLASS:PUBLIC
DESCRIPTION:Malerei & Grafik  \n\nAusstellung zum Thema \"Einblicke - Weitb
 licke - Ausblicke\"\n\nEin besonderes Highlight in diesem Jahr:\n\nEine ko
 stenlose Mappe steht allen Interessierten zur Verfügung! Diese kann berei
 ts eine Woche vor den Offenen Ateliers in der Kunsthalle abgeholt werden.\
 n\nDie Kunstmappe lädt dazu ein\, individuell befüllt zu werden – mit 
 Skizzen\, Drucken\, kleinen Originalen\, Stempeln oder anderen kreativen B
 eiträgen aus den teilnehmenden Ateliers. So entsteht eine ganz persönlic
 he Sammlung und bleibende Erinnerung an das Kunstwochenende. Ab eine Woche
  vor dem Veranstaltungswochenende in der Kunsthalle Brennabor\, Geschwiste
 r-Scholl-Straße 12 (Fr\, Sa und So: 13 – 18 Uhr) oder direkt am Kunstwo
 chenende.\n\nKontakt:\n\nKulturbüro der Stadt Brandenburg an der Havel\nJ
 ohanneskirchplatz 4\n14770 Brandenburg an der Havel\nTelefon: +49 3381 587
 070\nEmail: kultur@stadt-brandenburg.de\nWebseite: https://kulturbuero.sta
 dt-brandenburg.de/\n\nWeitere Informationen zur Veranstaltung: http://www.
 reiseregion-flaeming.de/veranstaltung/havelland/offene-ateliers-2026-ateli
 er-heinich
CATEGORIES:Ausstellung
DTSTAMP:20260424T110559Z
END:VEVENT
BEGIN:VEVENT
UID:69eb4e971da18
DTSTART:20260503T100000Z
SEQUENCE:0
TRANSP:OPAQUE
DTEND:20260503T160000Z
URL:http://www.reiseregion-flaeming.de/veranstaltung/havelland/offene-ateli
 ers-2026-atelier-heinich
LOCATION:Atelier Heinich\, Genthiner Straße 18\, 14774 Brandenburg an der 
 Havel
X-APPLE-STRUCTURED-LOCATION;VALUE=URI;X-ADDRESS="Atelier Heinich, Genthiner
  Straße 18, 14774 Brandenburg an der Havel";X-APPLE-RADIUS=49;X-TITLE=Ate
 lier Heinich:geo:12.420066,52.409444
GEO:12.420066;52.409444
SUMMARY:Offene Ateliers 2026 - Atelier Heinich
CLASS:PUBLIC
DESCRIPTION:Malerei & Grafik  \n\nAusstellung zum Thema \"Einblicke - Weitb
 licke - Ausblicke\"\n\nEin besonderes Highlight in diesem Jahr:\n\nEine ko
 stenlose Mappe steht allen Interessierten zur Verfügung! Diese kann berei
 ts eine Woche vor den Offenen Ateliers in der Kunsthalle abgeholt werden.\
 n\nDie Kunstmappe lädt dazu ein\, individuell befüllt zu werden – mit 
 Skizzen\, Drucken\, kleinen Originalen\, Stempeln oder anderen kreativen B
 eiträgen aus den teilnehmenden Ateliers. So entsteht eine ganz persönlic
 he Sammlung und bleibende Erinnerung an das Kunstwochenende. Ab eine Woche
  vor dem Veranstaltungswochenende in der Kunsthalle Brennabor\, Geschwiste
 r-Scholl-Straße 12 (Fr\, Sa und So: 13 – 18 Uhr) oder direkt am Kunstwo
 chenende.\n\nKontakt:\n\nKulturbüro der Stadt Brandenburg an der Havel\nJ
 ohanneskirchplatz 4\n14770 Brandenburg an der Havel\nTelefon: +49 3381 587
 070\nEmail: kultur@stadt-brandenburg.de\nWebseite: https://kulturbuero.sta
 dt-brandenburg.de/\n\nWeitere Informationen zur Veranstaltung: http://www.
 reiseregion-flaeming.de/veranstaltung/havelland/offene-ateliers-2026-ateli
 er-heinich
CATEGORIES:Ausstellung
DTSTAMP:20260424T110559Z
END:VEVENT
END:VCALENDAR