BEGIN:VCALENDAR
VERSION:2.0
PRODID:www.reiseregion-flaeming.de
BEGIN:VEVENT
UID:69eb52319cc03
DTSTART:20260502T120000Z
SEQUENCE:0
TRANSP:OPAQUE
DTEND:20260502T160000Z
URL:http://www.reiseregion-flaeming.de/veranstaltung/havelland/offene-ateli
 ers-2026-atelier-im-alten-buchladen
LOCATION:Atelier im Alten Buchladen\, Genthiner Straße 27\, 14774 Brandenb
 urg an der Havel
X-APPLE-STRUCTURED-LOCATION;VALUE=URI;X-ADDRESS="Atelier im Alten Buchladen
 , Genthiner Straße 27, 14774 Brandenburg an der Havel";X-APPLE-RADIUS=49;
 X-TITLE=Atelier im Alten Buchladen:geo:12.419020,52.409359
GEO:12.419020;52.409359
SUMMARY:Offene Ateliers 2026 - Atelier im Alten Buchladen
CLASS:PUBLIC
DESCRIPTION:Freie Kunst\, Kunstworkshop\, Illustration und Mediengestaltung
  \n\nMitmachaktion - Collagenbild Frühlingsmotiv für Kinder\, Jugendlich
 e & Erwachsene \n\nAm Samstag Lesung von 17 – 18 Uhr\, Vorstellung von B
 üchern aus dem Kerberos Verlag\n\nEin besonderes Highlight in diesem Jahr
 :\n\nEine kostenlose Mappe steht allen Interessierten zur Verfügung! Dies
 e kann bereits eine Woche vor den Offenen Ateliers in der Kunsthalle abgeh
 olt werden.\n\nDie Kunstmappe lädt dazu ein\, individuell befüllt zu wer
 den – mit Skizzen\, Drucken\, kleinen Originalen\, Stempeln oder anderen
  kreativen Beiträgen aus den teilnehmenden Ateliers. So entsteht eine gan
 z persönliche Sammlung und bleibende Erinnerung an das Kunstwochenende. A
 b eine Woche vor dem Veranstaltungswochenende in der Kunsthalle Brennabor\
 , Geschwister-Scholl-Straße 12 (Fr\, Sa und So: 13 – 18 Uhr) oder direk
 t am Kunstwochenende.\n\nKontakt:\n\nKulturbüro der Stadt Brandenburg an 
 der Havel\nJohanneskirchplatz 4\n14770 Brandenburg an der Havel\nTelefon: 
 +49 3381 587070\nEmail: kultur@stadt-brandenburg.de\nWebseite: https://kul
 turbuero.stadt-brandenburg.de/\n\nWeitere Informationen zur Veranstaltung:
  http://www.reiseregion-flaeming.de/veranstaltung/havelland/offene-atelier
 s-2026-atelier-im-alten-buchladen
CATEGORIES:Ausstellung
DTSTAMP:20260424T112121Z
END:VEVENT
BEGIN:VEVENT
UID:69eb52319ec52
DTSTART:20260503T090000Z
SEQUENCE:0
TRANSP:OPAQUE
DTEND:20260503T160000Z
URL:http://www.reiseregion-flaeming.de/veranstaltung/havelland/offene-ateli
 ers-2026-atelier-im-alten-buchladen
LOCATION:Atelier im Alten Buchladen\, Genthiner Straße 27\, 14774 Brandenb
 urg an der Havel
X-APPLE-STRUCTURED-LOCATION;VALUE=URI;X-ADDRESS="Atelier im Alten Buchladen
 , Genthiner Straße 27, 14774 Brandenburg an der Havel";X-APPLE-RADIUS=49;
 X-TITLE=Atelier im Alten Buchladen:geo:12.419020,52.409359
GEO:12.419020;52.409359
SUMMARY:Offene Ateliers 2026 - Atelier im Alten Buchladen
CLASS:PUBLIC
DESCRIPTION:Freie Kunst\, Kunstworkshop\, Illustration und Mediengestaltung
  \n\nMitmachaktion - Collagenbild Frühlingsmotiv für Kinder\, Jugendlich
 e & Erwachsene \n\nAm Samstag Lesung von 17 – 18 Uhr\, Vorstellung von B
 üchern aus dem Kerberos Verlag\n\nEin besonderes Highlight in diesem Jahr
 :\n\nEine kostenlose Mappe steht allen Interessierten zur Verfügung! Dies
 e kann bereits eine Woche vor den Offenen Ateliers in der Kunsthalle abgeh
 olt werden.\n\nDie Kunstmappe lädt dazu ein\, individuell befüllt zu wer
 den – mit Skizzen\, Drucken\, kleinen Originalen\, Stempeln oder anderen
  kreativen Beiträgen aus den teilnehmenden Ateliers. So entsteht eine gan
 z persönliche Sammlung und bleibende Erinnerung an das Kunstwochenende. A
 b eine Woche vor dem Veranstaltungswochenende in der Kunsthalle Brennabor\
 , Geschwister-Scholl-Straße 12 (Fr\, Sa und So: 13 – 18 Uhr) oder direk
 t am Kunstwochenende.\n\nKontakt:\n\nKulturbüro der Stadt Brandenburg an 
 der Havel\nJohanneskirchplatz 4\n14770 Brandenburg an der Havel\nTelefon: 
 +49 3381 587070\nEmail: kultur@stadt-brandenburg.de\nWebseite: https://kul
 turbuero.stadt-brandenburg.de/\n\nWeitere Informationen zur Veranstaltung:
  http://www.reiseregion-flaeming.de/veranstaltung/havelland/offene-atelier
 s-2026-atelier-im-alten-buchladen
CATEGORIES:Ausstellung
DTSTAMP:20260424T112121Z
END:VEVENT
END:VCALENDAR