BEGIN:VCALENDAR
VERSION:2.0
PRODID:www.reiseregion-flaeming.de
BEGIN:VEVENT
UID:69eb35c557734
DTSTART:20260530T133000Z
SEQUENCE:0
TRANSP:OPAQUE
DTEND:20260530T163000Z
URL:http://www.reiseregion-flaeming.de/veranstaltung/flaeming/la-valse-ein-
 klassikkonzert-im-kulturhaus-locktow
LOCATION:KulturHaus Locktow\, Hauptstraße 21a\, 14806 Locktow OT Planetal
X-APPLE-STRUCTURED-LOCATION;VALUE=URI;X-ADDRESS="KulturHaus Locktow, Haupts
 traße 21a, 14806 Locktow OT Planetal";X-APPLE-RADIUS=49;X-TITLE=KulturHau
 s Locktow:geo:12.705327,52.128100
GEO:12.705327;52.128100
SUMMARY:LA VALSE - Ein Klassikkonzert im KulturHaus Locktow
CLASS:PUBLIC
DESCRIPTION:Die Pianistin Kyra Steckeweh ist bekannt für ihre künstlerisc
 he Auseinandersetzung mit selten gespielten Werken von Komponistinnen und 
 eröffnet damit neue Perspektiven auf die Musikgeschichte. Mit ihrem feinf
 ühligen Spiel und moderierten Konzertformen schafft sie ein intensives H
 örerlebnis zwischen Musik\, Geschichte und persönlicher Interpretation. 
 In ihrem Programm „La Valse\" erklingen Werke von Frédéric Chopin\, Ag
 nes Tyrrell\, Franz Liszt\, Mel Bonis\, Jean Sibelius\, Claude Debussy\, M
 orfydd Owen\, Dora Pejačević\, Irma von Halácsy\, Germaine Tailleferre\
 , Heitor Villa-Lobos\, Cécile Chaminade\, Sergej Prokofjew\, Clara Schuma
 nn und Astor Piazzolla – ein faszinierendes Puzzle aus musikalischen Sti
 len und Farben und zugleich ein Streifzug durch drei Epochen der Musikgesc
 hichte. Es werden zwei Eintrittskategorien angeboten: ein exklusiver Aufta
 kt mit Kaffee- und Kuchenbuffet (begrenzte Plätze) mit anschließendem Ko
 nzert sowie der Konzerteinlass ohne Buffet.\n\nKontakt:\n\nKulturHaus Lock
 tow\nHauptstraße 21a\n14806 Locktow OT Planetal\nTelefon: +49\nEmail: kul
 turhaus@locktow.com\n\nWeitere Informationen zur Veranstaltung: http://www
 .reiseregion-flaeming.de/veranstaltung/flaeming/la-valse-ein-klassikkonzer
 t-im-kulturhaus-locktow
CATEGORIES:Klassisches Konzert / Oper
DTSTAMP:20260424T092005Z
END:VEVENT
BEGIN:VEVENT
UID:69eb35c567bcd
DTSTART:20260530T150000Z
SEQUENCE:0
TRANSP:OPAQUE
DTEND:20260530T163000Z
URL:http://www.reiseregion-flaeming.de/veranstaltung/flaeming/la-valse-ein-
 klassikkonzert-im-kulturhaus-locktow
LOCATION:KulturHaus Locktow\, Hauptstraße 21a\, 14806 Locktow OT Planetal
X-APPLE-STRUCTURED-LOCATION;VALUE=URI;X-ADDRESS="KulturHaus Locktow, Haupts
 traße 21a, 14806 Locktow OT Planetal";X-APPLE-RADIUS=49;X-TITLE=KulturHau
 s Locktow:geo:12.705327,52.128100
GEO:12.705327;52.128100
SUMMARY:LA VALSE - Ein Klassikkonzert im KulturHaus Locktow
CLASS:PUBLIC
DESCRIPTION:Die Pianistin Kyra Steckeweh ist bekannt für ihre künstlerisc
 he Auseinandersetzung mit selten gespielten Werken von Komponistinnen und 
 eröffnet damit neue Perspektiven auf die Musikgeschichte. Mit ihrem feinf
 ühligen Spiel und moderierten Konzertformen schafft sie ein intensives H
 örerlebnis zwischen Musik\, Geschichte und persönlicher Interpretation. 
 In ihrem Programm „La Valse\" erklingen Werke von Frédéric Chopin\, Ag
 nes Tyrrell\, Franz Liszt\, Mel Bonis\, Jean Sibelius\, Claude Debussy\, M
 orfydd Owen\, Dora Pejačević\, Irma von Halácsy\, Germaine Tailleferre\
 , Heitor Villa-Lobos\, Cécile Chaminade\, Sergej Prokofjew\, Clara Schuma
 nn und Astor Piazzolla – ein faszinierendes Puzzle aus musikalischen Sti
 len und Farben und zugleich ein Streifzug durch drei Epochen der Musikgesc
 hichte. Es werden zwei Eintrittskategorien angeboten: ein exklusiver Aufta
 kt mit Kaffee- und Kuchenbuffet (begrenzte Plätze) mit anschließendem Ko
 nzert sowie der Konzerteinlass ohne Buffet.\n\nKontakt:\n\nKulturHaus Lock
 tow\nHauptstraße 21a\n14806 Locktow OT Planetal\nTelefon: +49\nEmail: kul
 turhaus@locktow.com\n\nWeitere Informationen zur Veranstaltung: http://www
 .reiseregion-flaeming.de/veranstaltung/flaeming/la-valse-ein-klassikkonzer
 t-im-kulturhaus-locktow
CATEGORIES:Klassisches Konzert / Oper
DTSTAMP:20260424T092005Z
END:VEVENT
END:VCALENDAR