BEGIN:VCALENDAR
VERSION:2.0
PRODID:www.reiseregion-flaeming.de
BEGIN:VEVENT
UID:69eb6310a1cf8
DTSTART:20260502T120000Z
SEQUENCE:0
TRANSP:OPAQUE
DTEND:20260502T160000Z
URL:http://www.reiseregion-flaeming.de/veranstaltung/havelland/offene-ateli
 ers-2026-kunstwerkraum
LOCATION:KunstWerkRaum\, Unter den Platanen 30\, 14774 Brandenburg an der H
 avel
X-APPLE-STRUCTURED-LOCATION;VALUE=URI;X-ADDRESS="KunstWerkRaum, Unter den P
 latanen 30, 14774 Brandenburg an der Havel";X-APPLE-RADIUS=49;X-TITLE=Kuns
 tWerkRaum:geo:12.410082,52.391490
GEO:12.410082;52.391490
SUMMARY:Offene Ateliers 2026 - KunstWerkRaum
CLASS:PUBLIC
DESCRIPTION:Bildhauerei\, Bronzeguss & Installation\n\nab 15 Uhr · Vortrag
 : „Der Weg zum Bronzeguss“ Rico Rensmeyer gibt Einblicke in das Handwe
 rk des Bronzegusses und erklärt Modellier-\, Abform-\,  \nGuss- und Patin
 iertechniken. (Dauer: 45 min\, keine Anmeldung erforderlich)\n\nEin besond
 eres Highlight in diesem Jahr:\n\nEine kostenlose Mappe steht allen Intere
 ssierten zur Verfügung! Diese kann bereits eine Woche vor den Offenen Ate
 liers in der Kunsthalle abgeholt werden.\n\nDie Kunstmappe lädt dazu ein\
 , individuell befüllt zu werden – mit Skizzen\, Drucken\, kleinen Origi
 nalen\, Stempeln oder anderen kreativen Beiträgen aus den teilnehmenden A
 teliers. So entsteht eine ganz persönliche Sammlung und bleibende Erinner
 ung an das Kunstwochenende. Ab eine Woche vor dem Veranstaltungswochenende
  in der Kunsthalle Brennabor\, Geschwister-Scholl-Straße 12 (Fr\, Sa und 
 So: 13 – 18 Uhr) oder direkt am Kunstwochenende.\n\nKontakt:\n\nKulturb
 üro der Stadt Brandenburg an der Havel\nJohanneskirchplatz 4\n14770 Brand
 enburg an der Havel\nTelefon: +49 3381 587070\nEmail: kultur@stadt-branden
 burg.de\nWebseite: https://kulturbuero.stadt-brandenburg.de/\n\nWeitere In
 formationen zur Veranstaltung: http://www.reiseregion-flaeming.de/veransta
 ltung/havelland/offene-ateliers-2026-kunstwerkraum
CATEGORIES:Ausstellung
DTSTAMP:20260424T123320Z
END:VEVENT
BEGIN:VEVENT
UID:69eb6310ab6ba
DTSTART:20260503T090000Z
SEQUENCE:0
TRANSP:OPAQUE
DTEND:20260503T160000Z
URL:http://www.reiseregion-flaeming.de/veranstaltung/havelland/offene-ateli
 ers-2026-kunstwerkraum
LOCATION:KunstWerkRaum\, Unter den Platanen 30\, 14774 Brandenburg an der H
 avel
X-APPLE-STRUCTURED-LOCATION;VALUE=URI;X-ADDRESS="KunstWerkRaum, Unter den P
 latanen 30, 14774 Brandenburg an der Havel";X-APPLE-RADIUS=49;X-TITLE=Kuns
 tWerkRaum:geo:12.410082,52.391490
GEO:12.410082;52.391490
SUMMARY:Offene Ateliers 2026 - KunstWerkRaum
CLASS:PUBLIC
DESCRIPTION:Bildhauerei\, Bronzeguss & Installation\n\nab 15 Uhr · Vortrag
 : „Der Weg zum Bronzeguss“ Rico Rensmeyer gibt Einblicke in das Handwe
 rk des Bronzegusses und erklärt Modellier-\, Abform-\,  \nGuss- und Patin
 iertechniken. (Dauer: 45 min\, keine Anmeldung erforderlich)\n\nEin besond
 eres Highlight in diesem Jahr:\n\nEine kostenlose Mappe steht allen Intere
 ssierten zur Verfügung! Diese kann bereits eine Woche vor den Offenen Ate
 liers in der Kunsthalle abgeholt werden.\n\nDie Kunstmappe lädt dazu ein\
 , individuell befüllt zu werden – mit Skizzen\, Drucken\, kleinen Origi
 nalen\, Stempeln oder anderen kreativen Beiträgen aus den teilnehmenden A
 teliers. So entsteht eine ganz persönliche Sammlung und bleibende Erinner
 ung an das Kunstwochenende. Ab eine Woche vor dem Veranstaltungswochenende
  in der Kunsthalle Brennabor\, Geschwister-Scholl-Straße 12 (Fr\, Sa und 
 So: 13 – 18 Uhr) oder direkt am Kunstwochenende.\n\nKontakt:\n\nKulturb
 üro der Stadt Brandenburg an der Havel\nJohanneskirchplatz 4\n14770 Brand
 enburg an der Havel\nTelefon: +49 3381 587070\nEmail: kultur@stadt-branden
 burg.de\nWebseite: https://kulturbuero.stadt-brandenburg.de/\n\nWeitere In
 formationen zur Veranstaltung: http://www.reiseregion-flaeming.de/veransta
 ltung/havelland/offene-ateliers-2026-kunstwerkraum
CATEGORIES:Ausstellung
DTSTAMP:20260424T123320Z
END:VEVENT
END:VCALENDAR