BEGIN:VCALENDAR
VERSION:2.0
PRODID:www.reiseregion-flaeming.de
BEGIN:VEVENT
UID:69eb63104cfe5
DTSTART:20260502T120000Z
SEQUENCE:0
TRANSP:OPAQUE
DTEND:20260502T160000Z
URL:http://www.reiseregion-flaeming.de/veranstaltung/havelland/offene-ateli
 ers-2026-skulpturenwerkstatt-harms
LOCATION:Skulpturenwerkstatt Harms\, Koenigsmarckstraße 20\, 14774 Branden
 burg an der Havel
X-APPLE-STRUCTURED-LOCATION;VALUE=URI;X-ADDRESS="Skulpturenwerkstatt Harms,
  Koenigsmarckstraße 20, 14774 Brandenburg an der Havel";X-APPLE-RADIUS=49
 ;X-TITLE=Skulpturenwerkstatt Harms:geo:12.412946,52.403248
GEO:12.412946;52.403248
SUMMARY:Offene Ateliers 2026 - Skulpturenwerkstatt Harms
CLASS:PUBLIC
DESCRIPTION:Skulpturen in Bronze\, Keramik\, Stahl und Zement\,  \nAls Gast
 : Jeanette Goldmann mit Buchkunst & Grafik\n\nSa. 2. Mai 2026 von 16 – 1
 8 Uhr · Welches Schreiten ist ein Fortschritt? Wann ist es gut genug? Vor
 träge mit Perspektiven aus philosophischer\, ärztlicher und kulturhistor
 ischer Sicht mit anschließender Diskussion. Gastredner: Harald Kamps\, Ha
 usarzt\, Musikalische Begleitung: Richard Harms  \nSo. 3. Mai 2026 · Musi
 kalische Reise mit Richard Harms\n\nEin besonderes Highlight in diesem Jah
 r:\n\nEine kostenlose Mappe steht allen Interessierten zur Verfügung! Die
 se kann bereits eine Woche vor den Offenen Ateliers in der Kunsthalle abge
 holt werden.\n\nDie Kunstmappe lädt dazu ein\, individuell befüllt zu we
 rden – mit Skizzen\, Drucken\, kleinen Originalen\, Stempeln oder andere
 n kreativen Beiträgen aus den teilnehmenden Ateliers. So entsteht eine ga
 nz persönliche Sammlung und bleibende Erinnerung an das Kunstwochenende. 
 Ab eine Woche vor dem Veranstaltungswochenende in der Kunsthalle Brennabor
 \, Geschwister-Scholl-Straße 12 (Fr\, Sa und So: 13 – 18 Uhr) oder dire
 kt am Kunstwochenende.\n\nKontakt:\n\nKulturbüro der Stadt Brandenburg an
  der Havel\nJohanneskirchplatz 4\n14770 Brandenburg an der Havel\nTelefon:
  +49 3381 587070\nEmail: kultur@stadt-brandenburg.de\nWebseite: https://ku
 lturbuero.stadt-brandenburg.de/\n\nWeitere Informationen zur Veranstaltung
 : http://www.reiseregion-flaeming.de/veranstaltung/havelland/offene-atelie
 rs-2026-skulpturenwerkstatt-harms
CATEGORIES:Ausstellung
DTSTAMP:20260424T123320Z
END:VEVENT
BEGIN:VEVENT
UID:69eb63105287b
DTSTART:20260503T090000Z
SEQUENCE:0
TRANSP:OPAQUE
DTEND:20260503T160000Z
URL:http://www.reiseregion-flaeming.de/veranstaltung/havelland/offene-ateli
 ers-2026-skulpturenwerkstatt-harms
LOCATION:Skulpturenwerkstatt Harms\, Koenigsmarckstraße 20\, 14774 Branden
 burg an der Havel
X-APPLE-STRUCTURED-LOCATION;VALUE=URI;X-ADDRESS="Skulpturenwerkstatt Harms,
  Koenigsmarckstraße 20, 14774 Brandenburg an der Havel";X-APPLE-RADIUS=49
 ;X-TITLE=Skulpturenwerkstatt Harms:geo:12.412946,52.403248
GEO:12.412946;52.403248
SUMMARY:Offene Ateliers 2026 - Skulpturenwerkstatt Harms
CLASS:PUBLIC
DESCRIPTION:Skulpturen in Bronze\, Keramik\, Stahl und Zement\,  \nAls Gast
 : Jeanette Goldmann mit Buchkunst & Grafik\n\nSa. 2. Mai 2026 von 16 – 1
 8 Uhr · Welches Schreiten ist ein Fortschritt? Wann ist es gut genug? Vor
 träge mit Perspektiven aus philosophischer\, ärztlicher und kulturhistor
 ischer Sicht mit anschließender Diskussion. Gastredner: Harald Kamps\, Ha
 usarzt\, Musikalische Begleitung: Richard Harms  \nSo. 3. Mai 2026 · Musi
 kalische Reise mit Richard Harms\n\nEin besonderes Highlight in diesem Jah
 r:\n\nEine kostenlose Mappe steht allen Interessierten zur Verfügung! Die
 se kann bereits eine Woche vor den Offenen Ateliers in der Kunsthalle abge
 holt werden.\n\nDie Kunstmappe lädt dazu ein\, individuell befüllt zu we
 rden – mit Skizzen\, Drucken\, kleinen Originalen\, Stempeln oder andere
 n kreativen Beiträgen aus den teilnehmenden Ateliers. So entsteht eine ga
 nz persönliche Sammlung und bleibende Erinnerung an das Kunstwochenende. 
 Ab eine Woche vor dem Veranstaltungswochenende in der Kunsthalle Brennabor
 \, Geschwister-Scholl-Straße 12 (Fr\, Sa und So: 13 – 18 Uhr) oder dire
 kt am Kunstwochenende.\n\nKontakt:\n\nKulturbüro der Stadt Brandenburg an
  der Havel\nJohanneskirchplatz 4\n14770 Brandenburg an der Havel\nTelefon:
  +49 3381 587070\nEmail: kultur@stadt-brandenburg.de\nWebseite: https://ku
 lturbuero.stadt-brandenburg.de/\n\nWeitere Informationen zur Veranstaltung
 : http://www.reiseregion-flaeming.de/veranstaltung/havelland/offene-atelie
 rs-2026-skulpturenwerkstatt-harms
CATEGORIES:Ausstellung
DTSTAMP:20260424T123320Z
END:VEVENT
END:VCALENDAR