BEGIN:VCALENDAR
VERSION:2.0
PRODID:www.reiseregion-flaeming.de
BEGIN:VEVENT
UID:69eb4e96def79
DTSTART:20260502T120000Z
SEQUENCE:0
TRANSP:OPAQUE
DTEND:20260502T160000Z
URL:http://www.reiseregion-flaeming.de/veranstaltung/havelland/offene-ateli
 ers-2026-atelier-arthaus-plaue
LOCATION:Atelier aRthaus Plaue\, Genthiner Straße 41\, 14774 Brandenburg a
 n der Havel
X-APPLE-STRUCTURED-LOCATION;VALUE=URI;X-ADDRESS="Atelier aRthaus Plaue, Gen
 thiner Straße 41, 14774 Brandenburg an der Havel";X-APPLE-RADIUS=49;X-TIT
 LE=Atelier aRthaus Plaue:geo:12.417793,52.409013
GEO:12.417793;52.409013
SUMMARY:Offene Ateliers 2026 - Atelier aRthaus Plaue
CLASS:PUBLIC
DESCRIPTION:Malerei & Objekte\n\nSo. 3. Mai 2026 ab 15 Uhr · Frühling –
  florale Inszenierung Live „Florale Kunst mit SUSE POP“\n\nEin besonde
 res Highlight in diesem Jahr:\n\nEine kostenlose Mappe steht allen Interes
 sierten zur Verfügung! Diese kann bereits eine Woche vor den Offenen Atel
 iers in der Kunsthalle abgeholt werden.\n\nDie Kunstmappe lädt dazu ein\,
  individuell befüllt zu werden – mit Skizzen\, Drucken\, kleinen Origin
 alen\, Stempeln oder anderen kreativen Beiträgen aus den teilnehmenden At
 eliers. So entsteht eine ganz persönliche Sammlung und bleibende Erinneru
 ng an das Kunstwochenende. Ab eine Woche vor dem Veranstaltungswochenende 
 in der Kunsthalle Brennabor\, Geschwister-Scholl-Straße 12 (Fr\, Sa und S
 o: 13 – 18 Uhr) oder direkt am Kunstwochenende.\n\nKontakt:\n\nKulturbü
 ro der Stadt Brandenburg an der Havel\nJohanneskirchplatz 4\n14770 Branden
 burg an der Havel\nTelefon: +49 3381 587070\nEmail: kultur@stadt-brandenbu
 rg.de\nWebseite: https://kulturbuero.stadt-brandenburg.de/\n\nWeitere Info
 rmationen zur Veranstaltung: http://www.reiseregion-flaeming.de/veranstalt
 ung/havelland/offene-ateliers-2026-atelier-arthaus-plaue
CATEGORIES:Ausstellung
DTSTAMP:20260424T110558Z
END:VEVENT
BEGIN:VEVENT
UID:69eb4e96e08d7
DTSTART:20260503T090000Z
SEQUENCE:0
TRANSP:OPAQUE
DTEND:20260503T160000Z
URL:http://www.reiseregion-flaeming.de/veranstaltung/havelland/offene-ateli
 ers-2026-atelier-arthaus-plaue
LOCATION:Atelier aRthaus Plaue\, Genthiner Straße 41\, 14774 Brandenburg a
 n der Havel
X-APPLE-STRUCTURED-LOCATION;VALUE=URI;X-ADDRESS="Atelier aRthaus Plaue, Gen
 thiner Straße 41, 14774 Brandenburg an der Havel";X-APPLE-RADIUS=49;X-TIT
 LE=Atelier aRthaus Plaue:geo:12.417793,52.409013
GEO:12.417793;52.409013
SUMMARY:Offene Ateliers 2026 - Atelier aRthaus Plaue
CLASS:PUBLIC
DESCRIPTION:Malerei & Objekte\n\nSo. 3. Mai 2026 ab 15 Uhr · Frühling –
  florale Inszenierung Live „Florale Kunst mit SUSE POP“\n\nEin besonde
 res Highlight in diesem Jahr:\n\nEine kostenlose Mappe steht allen Interes
 sierten zur Verfügung! Diese kann bereits eine Woche vor den Offenen Atel
 iers in der Kunsthalle abgeholt werden.\n\nDie Kunstmappe lädt dazu ein\,
  individuell befüllt zu werden – mit Skizzen\, Drucken\, kleinen Origin
 alen\, Stempeln oder anderen kreativen Beiträgen aus den teilnehmenden At
 eliers. So entsteht eine ganz persönliche Sammlung und bleibende Erinneru
 ng an das Kunstwochenende. Ab eine Woche vor dem Veranstaltungswochenende 
 in der Kunsthalle Brennabor\, Geschwister-Scholl-Straße 12 (Fr\, Sa und S
 o: 13 – 18 Uhr) oder direkt am Kunstwochenende.\n\nKontakt:\n\nKulturbü
 ro der Stadt Brandenburg an der Havel\nJohanneskirchplatz 4\n14770 Branden
 burg an der Havel\nTelefon: +49 3381 587070\nEmail: kultur@stadt-brandenbu
 rg.de\nWebseite: https://kulturbuero.stadt-brandenburg.de/\n\nWeitere Info
 rmationen zur Veranstaltung: http://www.reiseregion-flaeming.de/veranstalt
 ung/havelland/offene-ateliers-2026-atelier-arthaus-plaue
CATEGORIES:Ausstellung
DTSTAMP:20260424T110558Z
END:VEVENT
END:VCALENDAR