BEGIN:VCALENDAR
VERSION:2.0
PRODID:www.reiseregion-flaeming.de
BEGIN:VEVENT
UID:69eae3340cb7e
DTSTART:20260502T120000Z
SEQUENCE:0
TRANSP:OPAQUE
DTEND:20260502T160000Z
URL:http://www.reiseregion-flaeming.de/veranstaltung/havelland/offene-ateli
 ers-2026-atelier-marion-niendorf
LOCATION:Atelier Marion Niendorf\, Beelitzer Straße 47\, 14548 Schwielowse
 e
X-APPLE-STRUCTURED-LOCATION;VALUE=URI;X-ADDRESS="Atelier Marion Niendorf, B
 eelitzer Straße 47, 14548 Schwielowsee";X-APPLE-RADIUS=49;X-TITLE=Atelier
  Marion Niendorf:geo:12.930441,52.305688
GEO:12.930441;52.305688
SUMMARY:Offene Ateliers 2026 - Atelier Marion Niendorf
CLASS:PUBLIC
DESCRIPTION:Malerei \n\nAusstellung im offenen Garten\n\nKontakt:\n\nLandkr
 eis Potsdam-Mittelmark\nNiemöllerstraße 1\n14806 Bad Belzig\nTelefon: +4
 9 033841  91442\nEmail: Kultur@Potsdam-Mittelmark.de\nWebseite: https://ww
 w.potsdam-mittelmark.de/de/\n\nWeitere Informationen zur Veranstaltung: ht
 tp://www.reiseregion-flaeming.de/veranstaltung/havelland/offene-ateliers-2
 026-atelier-marion-niendorf
CATEGORIES:Ausstellung
DTSTAMP:20260424T032748Z
END:VEVENT
BEGIN:VEVENT
UID:69eae334153c9
DTSTART:20260503T090000Z
SEQUENCE:0
TRANSP:OPAQUE
DTEND:20260503T160000Z
URL:http://www.reiseregion-flaeming.de/veranstaltung/havelland/offene-ateli
 ers-2026-atelier-marion-niendorf
LOCATION:Atelier Marion Niendorf\, Beelitzer Straße 47\, 14548 Schwielowse
 e
X-APPLE-STRUCTURED-LOCATION;VALUE=URI;X-ADDRESS="Atelier Marion Niendorf, B
 eelitzer Straße 47, 14548 Schwielowsee";X-APPLE-RADIUS=49;X-TITLE=Atelier
  Marion Niendorf:geo:12.930441,52.305688
GEO:12.930441;52.305688
SUMMARY:Offene Ateliers 2026 - Atelier Marion Niendorf
CLASS:PUBLIC
DESCRIPTION:Malerei \n\nAusstellung im offenen Garten\n\nKontakt:\n\nLandkr
 eis Potsdam-Mittelmark\nNiemöllerstraße 1\n14806 Bad Belzig\nTelefon: +4
 9 033841  91442\nEmail: Kultur@Potsdam-Mittelmark.de\nWebseite: https://ww
 w.potsdam-mittelmark.de/de/\n\nWeitere Informationen zur Veranstaltung: ht
 tp://www.reiseregion-flaeming.de/veranstaltung/havelland/offene-ateliers-2
 026-atelier-marion-niendorf
CATEGORIES:Ausstellung
DTSTAMP:20260424T032748Z
END:VEVENT
END:VCALENDAR