BEGIN:VCALENDAR
VERSION:2.0
PRODID:www.reiseregion-flaeming.de
BEGIN:VEVENT
UID:69ed715893973
DTSTART:20260506T113000Z
SEQUENCE:0
TRANSP:OPAQUE
DTEND:20260506T143000Z
URL:http://www.reiseregion-flaeming.de/veranstaltung/seenland-oder-spree/se
 niorenkino-im-cinema-bad-saarow
LOCATION:CineLounge Bad Saarow\, Ulmenstraße 2\, 15526 Bad Saarow
X-APPLE-STRUCTURED-LOCATION;VALUE=URI;X-ADDRESS="CineLounge Bad Saarow, Ulm
 enstraße 2, 15526 Bad Saarow";X-APPLE-RADIUS=49;X-TITLE=CineLounge Bad Sa
 arow:geo:14.062694,52.292910
GEO:14.062694;52.292910
SUMMARY:Seniorenkino im Cinema Bad Saarow
CLASS:PUBLIC
DESCRIPTION:Jeden 1. Mittwoch im Monat können Sie sich bei einer gemütlic
 hen Kaffee-undKuchen-Runde untereinander auf den neuesten Stand bringen un
 d im Anschluss einen tollen und spannenden Arthouse-Film genießen.\n\nKon
 takt:\n\nVELOTEL\n\n \nTelefon: +49 33631 803107\nEmail: hello@velotel-bad
 -saarow.de\n\nWeitere Informationen zur Veranstaltung: http://www.reisereg
 ion-flaeming.de/veranstaltung/seenland-oder-spree/seniorenkino-im-cinema-b
 ad-saarow
CATEGORIES:Film
DTSTAMP:20260426T015848Z
END:VEVENT
END:VCALENDAR