BEGIN:VCALENDAR
VERSION:2.0
PRODID:www.reiseregion-flaeming.de
BEGIN:VEVENT
UID:69eb622c58760
DTSTART:20260605T073000Z
SEQUENCE:0
TRANSP:OPAQUE
DTEND:20260605T133000Z
URL:http://www.reiseregion-flaeming.de/veranstaltung/potsdam/bunte-baender-
 weben-kammweben-fuer-einsteiger
LOCATION:URANIA \"Wilhelm Foerster\" Potsdam e.V.\, Gutenbergstraße 71/72\
 , 14467 Potsdam
X-APPLE-STRUCTURED-LOCATION;VALUE=URI;X-ADDRESS="URANIA \"Wilhelm Foerster\
 " Potsdam e.V., Gutenbergstraße 71/72, 14467 Potsdam";X-APPLE-RADIUS=49;X
 -TITLE="URANIA \"Wilhelm Foerster\" Potsdam e.V.":geo:13.061857,52.402339
GEO:13.061857;52.402339
SUMMARY:Bunte Bänder weben - Kammweben für Einsteiger
CLASS:PUBLIC
DESCRIPTION:Ob als Zeltleinen oder Zaumzeug\, Jurtenbänder\, Schürzenbän
 der oder Strumpfbänder\, als Gürtel\, Schärpen oder Borten ... Seit min
 destens 5.000 Jahren weben Menschen überall auf der Welt Bänder. Die geo
 grafische und zeitliche Ausdehnung dieser Webtechnik sorgte für eine unen
 dliche Vielfalt an Mustern.  \nDieser Workshop gibt einen Einstieg in die 
 Bandweberei mit dem Webkamm. Dazu erstellen wir einen Webbrief\, schären 
 eine Kette und weben ein mehrfarbiges Band.\n\n  \nDer Workshop eignet sic
 h auch für Pädagog:innen und Erzieher:innen als Einstieg ins Thema Kammw
 eben und ist eine gute Vorbereitung für den Workshop „Brettchenweben“
 .\n\n**Dozentin** : Kerstin Reimann  \n**Zeit** : 9.30 – 15.15 Uhr | 7 U
 E | max. 6 TN\n\n \n\n**Anmeldung erforderlich** : 0331 / 29 17 41 oder [v
 erein@urania-potsdam.de](mailto:verein@urania-potsdam.de)\n\nKontakt:\n\nU
 RANIA \"Wilhelm Foerster\" Potsdam e.V.\nGutenbergstraße 72\n14467 Potsda
 m\nTelefon: +49 331 291741\nEmail: verein@urania-potsdam.de\n\nWeitere Inf
 ormationen zur Veranstaltung: http://www.reiseregion-flaeming.de/veranstal
 tung/potsdam/bunte-baender-weben-kammweben-fuer-einsteiger
CATEGORIES:Workshop / Seminar
DTSTAMP:20260424T122932Z
END:VEVENT
BEGIN:VEVENT
UID:69eb622c5fc90
DTSTART:20260606T073000Z
SEQUENCE:0
TRANSP:OPAQUE
DTEND:20260606T133000Z
URL:http://www.reiseregion-flaeming.de/veranstaltung/potsdam/bunte-baender-
 weben-kammweben-fuer-einsteiger
LOCATION:URANIA \"Wilhelm Foerster\" Potsdam e.V.\, Gutenbergstraße 71/72\
 , 14467 Potsdam
X-APPLE-STRUCTURED-LOCATION;VALUE=URI;X-ADDRESS="URANIA \"Wilhelm Foerster\
 " Potsdam e.V., Gutenbergstraße 71/72, 14467 Potsdam";X-APPLE-RADIUS=49;X
 -TITLE="URANIA \"Wilhelm Foerster\" Potsdam e.V.":geo:13.061857,52.402339
GEO:13.061857;52.402339
SUMMARY:Bunte Bänder weben - Kammweben für Einsteiger
CLASS:PUBLIC
DESCRIPTION:Ob als Zeltleinen oder Zaumzeug\, Jurtenbänder\, Schürzenbän
 der oder Strumpfbänder\, als Gürtel\, Schärpen oder Borten ... Seit min
 destens 5.000 Jahren weben Menschen überall auf der Welt Bänder. Die geo
 grafische und zeitliche Ausdehnung dieser Webtechnik sorgte für eine unen
 dliche Vielfalt an Mustern.  \nDieser Workshop gibt einen Einstieg in die 
 Bandweberei mit dem Webkamm. Dazu erstellen wir einen Webbrief\, schären 
 eine Kette und weben ein mehrfarbiges Band.\n\n  \nDer Workshop eignet sic
 h auch für Pädagog:innen und Erzieher:innen als Einstieg ins Thema Kammw
 eben und ist eine gute Vorbereitung für den Workshop „Brettchenweben“
 .\n\n**Dozentin** : Kerstin Reimann  \n**Zeit** : 9.30 – 15.15 Uhr | 7 U
 E | max. 6 TN\n\n \n\n**Anmeldung erforderlich** : 0331 / 29 17 41 oder [v
 erein@urania-potsdam.de](mailto:verein@urania-potsdam.de)\n\nKontakt:\n\nU
 RANIA \"Wilhelm Foerster\" Potsdam e.V.\nGutenbergstraße 72\n14467 Potsda
 m\nTelefon: +49 331 291741\nEmail: verein@urania-potsdam.de\n\nWeitere Inf
 ormationen zur Veranstaltung: http://www.reiseregion-flaeming.de/veranstal
 tung/potsdam/bunte-baender-weben-kammweben-fuer-einsteiger
CATEGORIES:Workshop / Seminar
DTSTAMP:20260424T122932Z
END:VEVENT
END:VCALENDAR