BEGIN:VCALENDAR
VERSION:2.0
PRODID:www.reiseregion-flaeming.de
BEGIN:VEVENT
UID:69e9fc563158e
DTSTART:20260503T090000Z
SEQUENCE:0
TRANSP:OPAQUE
DTEND:20260503T160000Z
URL:http://www.reiseregion-flaeming.de/veranstaltung/flaeming/offene-atelie
 rs-2026-atelier-lina-yell
LOCATION:Atelier Lina Yell\, Busendorfer Weg 1\, 14797 Kloster Lehnin
X-APPLE-STRUCTURED-LOCATION;VALUE=URI;X-ADDRESS="Atelier Lina Yell, Busendo
 rfer Weg 1, 14797 Kloster Lehnin";X-APPLE-RADIUS=49;X-TITLE=Atelier Lina Y
 ell:geo:12.751461,52.285845
GEO:12.751461;52.285845
SUMMARY:Offene Ateliers 2026 - Atelier Lina Yell
CLASS:PUBLIC
DESCRIPTION:Malerei\, Keramik\n\n15 Uhr: Lesung „gackerei II“\n\nKontak
 t:\n\nLandkreis Potsdam-Mittelmark\nNiemöllerstraße 1\n14806 Bad Belzig\
 nTelefon: +49 033841  91442\nEmail: Kultur@Potsdam-Mittelmark.de\nWebseite
 : https://www.potsdam-mittelmark.de/de/\n\nWeitere Informationen zur Veran
 staltung: http://www.reiseregion-flaeming.de/veranstaltung/flaeming/offene
 -ateliers-2026-atelier-lina-yell
CATEGORIES:Ausstellung
DTSTAMP:20260423T110246Z
END:VEVENT
END:VCALENDAR