BEGIN:VCALENDAR
VERSION:2.0
PRODID:www.reiseregion-flaeming.de
BEGIN:VEVENT
UID:69ea217be4d47
DTSTART:20260627T120000Z
SEQUENCE:0
TRANSP:OPAQUE
DTEND:20260627T140000Z
URL:http://www.reiseregion-flaeming.de/veranstaltung/flaeming/flammen-aus-t
 on
LOCATION:Landschafts- und Kunstverein Rietzer Berg\, Rietzer Siedlung 11\, 
 14797 Kloster Lehnin
X-APPLE-STRUCTURED-LOCATION;VALUE=URI;X-ADDRESS="Landschafts- und Kunstvere
 in Rietzer Berg, Rietzer Siedlung 11, 14797 Kloster Lehnin";X-APPLE-RADIUS
 =49;X-TITLE=Landschafts- und Kunstverein Rietzer Berg:geo:12.743927,52.320
 252
GEO:12.743927;52.320252
SUMMARY:Flammen aus Ton
CLASS:PUBLIC
DESCRIPTION:Bei diesem Ton-Workshop arbeitest du zusammen mit der Gruppe an
  einem einzigartigen kollektiven Kunstwerk für den Rietzer Berg. Nach den
  Wassertropfen im Jahr 2025 wollen wir uns dieses Jahr dem Thema Feuer kü
 nstlerisch nähern.\n\nNach einer Einführung durch die portugiesische\, i
 n Brandenburg lebende Künstlerin dêli formt ihr den Ton zu Flammen. Davo
 n werden sehr viele benötigt\, denn sie sollen schlussendlich in einer in
 teraktiven Open-Air-Installation im Landschaftspark aufgestellt werden.\n\
 nDiese Flammen werden nach dem ersten Termin im Juni gebrannt und beim zwe
 iten Termin im August in verschiedenen Rottönen glasiert. An einem dritte
 n Termin werden sie gemeinsam installiert.\n\nTeilnahme für Personen ab 1
 3 Jahren.\n\nDer Eintritt ist frei. Spenden werden gern angenommen.\n\nKon
 takt:\n\nLandschafts- und Kunstverein Rietzer Berg\nRietzer Siedlung 11\n1
 4797 Kloster Lehnin\nTelefon: +49 3381 211438\nEmail: info@rietzerberg.de\
 n\nWeitere Informationen zur Veranstaltung: http://www.reiseregion-flaemin
 g.de/veranstaltung/flaeming/flammen-aus-ton
CATEGORIES:Workshop / Seminar
DTSTAMP:20260423T134116Z
END:VEVENT
BEGIN:VEVENT
UID:69ea217bed1ff
DTSTART:20260808T120000Z
SEQUENCE:0
TRANSP:OPAQUE
DTEND:20260808T140000Z
URL:http://www.reiseregion-flaeming.de/veranstaltung/flaeming/flammen-aus-t
 on
LOCATION:Landschafts- und Kunstverein Rietzer Berg\, Rietzer Siedlung 11\, 
 14797 Kloster Lehnin
X-APPLE-STRUCTURED-LOCATION;VALUE=URI;X-ADDRESS="Landschafts- und Kunstvere
 in Rietzer Berg, Rietzer Siedlung 11, 14797 Kloster Lehnin";X-APPLE-RADIUS
 =49;X-TITLE=Landschafts- und Kunstverein Rietzer Berg:geo:12.743927,52.320
 252
GEO:12.743927;52.320252
SUMMARY:Flammen aus Ton
CLASS:PUBLIC
DESCRIPTION:Bei diesem Ton-Workshop arbeitest du zusammen mit der Gruppe an
  einem einzigartigen kollektiven Kunstwerk für den Rietzer Berg. Nach den
  Wassertropfen im Jahr 2025 wollen wir uns dieses Jahr dem Thema Feuer kü
 nstlerisch nähern.\n\nNach einer Einführung durch die portugiesische\, i
 n Brandenburg lebende Künstlerin dêli formt ihr den Ton zu Flammen. Davo
 n werden sehr viele benötigt\, denn sie sollen schlussendlich in einer in
 teraktiven Open-Air-Installation im Landschaftspark aufgestellt werden.\n\
 nDiese Flammen werden nach dem ersten Termin im Juni gebrannt und beim zwe
 iten Termin im August in verschiedenen Rottönen glasiert. An einem dritte
 n Termin werden sie gemeinsam installiert.\n\nTeilnahme für Personen ab 1
 3 Jahren.\n\nDer Eintritt ist frei. Spenden werden gern angenommen.\n\nKon
 takt:\n\nLandschafts- und Kunstverein Rietzer Berg\nRietzer Siedlung 11\n1
 4797 Kloster Lehnin\nTelefon: +49 3381 211438\nEmail: info@rietzerberg.de\
 n\nWeitere Informationen zur Veranstaltung: http://www.reiseregion-flaemin
 g.de/veranstaltung/flaeming/flammen-aus-ton
CATEGORIES:Workshop / Seminar
DTSTAMP:20260423T134116Z
END:VEVENT
END:VCALENDAR