BEGIN:VCALENDAR
VERSION:2.0
PRODID:www.reiseregion-flaeming.de
BEGIN:VEVENT
UID:69e8ad4a1296d
DTSTART:20260502T120000Z
SEQUENCE:0
TRANSP:OPAQUE
DTEND:20260502T160000Z
URL:http://www.reiseregion-flaeming.de/veranstaltung/region/offene-ateliers
 -2026-atelier-elke-scheele
LOCATION:Atelier Elke Scheele\, Rotdornweg  10\, 14715 Milower Land
X-APPLE-STRUCTURED-LOCATION;VALUE=URI;X-ADDRESS="Atelier Elke Scheele, Rotd
 ornweg  10, 14715 Milower Land";X-APPLE-RADIUS=49;X-TITLE=Atelier Elke Sch
 eele:geo:12.341121,52.487807
GEO:12.341121;52.487807
SUMMARY:Offene Ateliers 2026 - Atelier Elke Scheele
CLASS:PUBLIC
DESCRIPTION:Collagen \, Grafik\, Installation\n\nKontakt:\n\nLandkreis Have
 lland\nPlatz der Freiheit 1\n14712 Rathenow\nTelefon: \nEmail: \n\nWeitere
  Informationen zur Veranstaltung: http://www.reiseregion-flaeming.de/veran
 staltung/region/offene-ateliers-2026-atelier-elke-scheele
CATEGORIES:Ausstellung
DTSTAMP:20260422T111314Z
END:VEVENT
BEGIN:VEVENT
UID:69e8ad4a6cda0
DTSTART:20260503T090000Z
SEQUENCE:0
TRANSP:OPAQUE
DTEND:20260503T160000Z
URL:http://www.reiseregion-flaeming.de/veranstaltung/region/offene-ateliers
 -2026-atelier-elke-scheele
LOCATION:Atelier Elke Scheele\, Rotdornweg  10\, 14715 Milower Land
X-APPLE-STRUCTURED-LOCATION;VALUE=URI;X-ADDRESS="Atelier Elke Scheele, Rotd
 ornweg  10, 14715 Milower Land";X-APPLE-RADIUS=49;X-TITLE=Atelier Elke Sch
 eele:geo:12.341121,52.487807
GEO:12.341121;52.487807
SUMMARY:Offene Ateliers 2026 - Atelier Elke Scheele
CLASS:PUBLIC
DESCRIPTION:Collagen \, Grafik\, Installation\n\nKontakt:\n\nLandkreis Have
 lland\nPlatz der Freiheit 1\n14712 Rathenow\nTelefon: \nEmail: \n\nWeitere
  Informationen zur Veranstaltung: http://www.reiseregion-flaeming.de/veran
 staltung/region/offene-ateliers-2026-atelier-elke-scheele
CATEGORIES:Ausstellung
DTSTAMP:20260422T111314Z
END:VEVENT
END:VCALENDAR