BEGIN:VCALENDAR
VERSION:2.0
PRODID:www.reiseregion-flaeming.de
BEGIN:VEVENT
UID:69e8ac4277fac
DTSTART:20260502T120000Z
SEQUENCE:0
TRANSP:OPAQUE
DTEND:20260502T160000Z
URL:http://www.reiseregion-flaeming.de/veranstaltung/havelland/offene-ateli
 ers-2026-kuenstler-der-scheune-milow
LOCATION:Künstler der Scheune Milow\, Stremmestraße  11\, 14715 Milower L
 and
X-APPLE-STRUCTURED-LOCATION;VALUE=URI;X-ADDRESS="Künstler der Scheune Milo
 w, Stremmestraße  11, 14715 Milower Land";X-APPLE-RADIUS=49;X-TITLE=Küns
 tler der Scheune Milow:geo:12.310054,52.526226
GEO:12.310054;52.526226
SUMMARY:Offene Ateliers 2026 - Künstler der Scheune Milow
CLASS:PUBLIC
DESCRIPTION:Malerei\n\nAuftritt der Musikschule Fröhlich\n\nKontakt:\n\nLa
 ndkreis Havelland\nPlatz der Freiheit 1\n14712 Rathenow\nTelefon: \nEmail:
  \n\nWeitere Informationen zur Veranstaltung: http://www.reiseregion-flaem
 ing.de/veranstaltung/havelland/offene-ateliers-2026-kuenstler-der-scheune-
 milow
CATEGORIES:Ausstellung
DTSTAMP:20260422T110850Z
END:VEVENT
BEGIN:VEVENT
UID:69e8ac42bedbf
DTSTART:20260503T090000Z
SEQUENCE:0
TRANSP:OPAQUE
DTEND:20260503T160000Z
URL:http://www.reiseregion-flaeming.de/veranstaltung/havelland/offene-ateli
 ers-2026-kuenstler-der-scheune-milow
LOCATION:Künstler der Scheune Milow\, Stremmestraße  11\, 14715 Milower L
 and
X-APPLE-STRUCTURED-LOCATION;VALUE=URI;X-ADDRESS="Künstler der Scheune Milo
 w, Stremmestraße  11, 14715 Milower Land";X-APPLE-RADIUS=49;X-TITLE=Küns
 tler der Scheune Milow:geo:12.310054,52.526226
GEO:12.310054;52.526226
SUMMARY:Offene Ateliers 2026 - Künstler der Scheune Milow
CLASS:PUBLIC
DESCRIPTION:Malerei\n\nAuftritt der Musikschule Fröhlich\n\nKontakt:\n\nLa
 ndkreis Havelland\nPlatz der Freiheit 1\n14712 Rathenow\nTelefon: \nEmail:
  \n\nWeitere Informationen zur Veranstaltung: http://www.reiseregion-flaem
 ing.de/veranstaltung/havelland/offene-ateliers-2026-kuenstler-der-scheune-
 milow
CATEGORIES:Ausstellung
DTSTAMP:20260422T110850Z
END:VEVENT
END:VCALENDAR