BEGIN:VCALENDAR
VERSION:2.0
PRODID:www.reiseregion-flaeming.de
BEGIN:VEVENT
UID:69e8bd4beecc9
DTSTART:20260502T120000Z
SEQUENCE:0
TRANSP:OPAQUE
DTEND:20260502T160000Z
URL:http://www.reiseregion-flaeming.de/veranstaltung/havelland/offene-ateli
 ers-2026-atelier-wilfried-planke
LOCATION:Atelier Wilfried Planke\, Alte Hauptstraße 16\, 14727 Premnitz
X-APPLE-STRUCTURED-LOCATION;VALUE=URI;X-ADDRESS="Atelier Wilfried Planke, A
 lte Hauptstraße 16, 14727 Premnitz";X-APPLE-RADIUS=49;X-TITLE=Atelier Wil
 fried Planke:geo:12.329019,52.534295
GEO:12.329019;52.534295
SUMMARY:Offene Ateliers 2026 - Atelier Wilfried Planke
CLASS:PUBLIC
DESCRIPTION:Illustration\, Keramik\, Malerei\n\nKontakt:\n\nLandkreis Havel
 land\nPlatz der Freiheit 1\n14712 Rathenow\nTelefon: \nEmail: \n\nWeitere 
 Informationen zur Veranstaltung: http://www.reiseregion-flaeming.de/verans
 taltung/havelland/offene-ateliers-2026-atelier-wilfried-planke
CATEGORIES:Ausstellung
DTSTAMP:20260422T122132Z
END:VEVENT
BEGIN:VEVENT
UID:69e8bd4bf0722
DTSTART:20260503T090000Z
SEQUENCE:0
TRANSP:OPAQUE
DTEND:20260503T160000Z
URL:http://www.reiseregion-flaeming.de/veranstaltung/havelland/offene-ateli
 ers-2026-atelier-wilfried-planke
LOCATION:Atelier Wilfried Planke\, Alte Hauptstraße 16\, 14727 Premnitz
X-APPLE-STRUCTURED-LOCATION;VALUE=URI;X-ADDRESS="Atelier Wilfried Planke, A
 lte Hauptstraße 16, 14727 Premnitz";X-APPLE-RADIUS=49;X-TITLE=Atelier Wil
 fried Planke:geo:12.329019,52.534295
GEO:12.329019;52.534295
SUMMARY:Offene Ateliers 2026 - Atelier Wilfried Planke
CLASS:PUBLIC
DESCRIPTION:Illustration\, Keramik\, Malerei\n\nKontakt:\n\nLandkreis Havel
 land\nPlatz der Freiheit 1\n14712 Rathenow\nTelefon: \nEmail: \n\nWeitere 
 Informationen zur Veranstaltung: http://www.reiseregion-flaeming.de/verans
 taltung/havelland/offene-ateliers-2026-atelier-wilfried-planke
CATEGORIES:Ausstellung
DTSTAMP:20260422T122132Z
END:VEVENT
END:VCALENDAR