BEGIN:VCALENDAR
VERSION:2.0
PRODID:www.reiseregion-flaeming.de
BEGIN:VEVENT
UID:69eb62e257b07
DTSTART:20260613T180000Z
SEQUENCE:0
TRANSP:OPAQUE
DTEND:20260613T191500Z
URL:http://www.reiseregion-flaeming.de/veranstaltung/potsdam/clara-z-kaempf
 en-wo-das-leben-ist-2
LOCATION:Kunsthaus sans titre\, Französische Str. 18\, 14467 Potsdam
X-APPLE-STRUCTURED-LOCATION;VALUE=URI;X-ADDRESS="Kunsthaus sans titre, Fran
 zösische Str. 18, 14467 Potsdam";X-APPLE-RADIUS=49;X-TITLE=Kunsthaus sans
  titre:geo:13.062252,52.398711
GEO:13.062252;52.398711
SUMMARY:CLARA Z - Kämpfen\, wo das Leben ist
CLASS:PUBLIC
DESCRIPTION:Sie war unbequem\, leidenschaftlich\, radikal: **Clara Zetkin**
  – Frauenrechtlerin\, Kommunistin\, Visionärin. Eine Frau\, die Grenzen
  sprengte\, für ihre Überzeugungen einstand und das politische Geschehen
  ihrer Zeit mitgestaltete. Mit eisernem Willen und warmherzigem Auftreten 
 kämpfte sie für Gleichberechtigung\, Frieden und Freiheit – und zahlte
  dafür einen hohen Preis. Sie gründete den Internationalen Frauentag\, l
 ebte eine unkonventionelle Liebe\, trotzte Krankheit und Repressionen\, un
 d eröffnete – unter Lebensgefahr – 1932 als Alterspräsidentin den Re
 ichstag.\n\n**„Clara Z – Kämpfen\, wo das Leben ist“** wirft einen 
 intensiven\, persönlichen Blick auf das Leben einer Frau\, die mehr war a
 ls eine historische Figur: Freundin von Rosa Luxemburg und Lenin\, entschi
 edene Kritikerin des Kapitalismus und eine unermüdliche Kämpferin für d
 ie Befreiung der Frau und der Arbeiterschaft.\n\nEin Schauspiel\, das Gesc
 hichte lebendig macht – inspirierend\, bewegend\, und erschreckend aktue
 ll.\n\nKontakt:\n\nTriple A Theater\n\n \nTelefon: +49 177 4305948\nEmail:
  contact@triple-a-theater.de\nWebseite: https://www.triple-a-theater.de/pr
 oduktionen/clara-zetkin-k%C3%A4mpfen-wo-das-leben-ist\n\nWeitere Informati
 onen zur Veranstaltung: http://www.reiseregion-flaeming.de/veranstaltung/p
 otsdam/clara-z-kaempfen-wo-das-leben-ist-2
CATEGORIES:Theater / Tanz / Kabarett
DTSTAMP:20260424T123234Z
END:VEVENT
END:VCALENDAR