BEGIN:VCALENDAR
VERSION:2.0
PRODID:www.reiseregion-flaeming.de
BEGIN:VEVENT
UID:69e8c0bee632d
DTSTART:20260502T150000Z
SEQUENCE:0
TRANSP:OPAQUE
DTEND:20260502T223000Z
URL:http://www.reiseregion-flaeming.de/veranstaltung/uckermark/blaulichtpar
 ty-in-lychen
LOCATION:Freiwllige Feuerwehr Lychen\, Beenzer Landstr. 5\, 17279 Lychen
X-APPLE-STRUCTURED-LOCATION;VALUE=URI;X-ADDRESS="Freiwllige Feuerwehr Lyche
 n, Beenzer Landstr. 5, 17279 Lychen";X-APPLE-RADIUS=49;X-TITLE=Freiwllige 
 Feuerwehr Lychen:geo:13.317278,53.219552
GEO:13.317278;53.219552
SUMMARY:Blaulichtparty in Lychen
CLASS:PUBLIC
DESCRIPTION:Feiern mit der Feuerwehr!\n\nDie Lychener Wehr feiert sein 120 
 jähriges Bestehen und der Feuerwehrverband Uckermark e.V. sein 30 jährig
 es Bestehen. Zusammen möchten wir das Jubiläum mit Euch feiern.\n\nKommt
  vorbei und habt Spaß!\n\nKontakt:\n\nFreiwillige Feuerwehr Lychen\nBeenz
 er Landstr. 5\n17279 Lychen\nTelefon: \nEmail: \n\nWeitere Informationen z
 ur Veranstaltung: http://www.reiseregion-flaeming.de/veranstaltung/uckerma
 rk/blaulichtparty-in-lychen
CATEGORIES:Fest / Brauchtum
DTSTAMP:20260422T123615Z
END:VEVENT
END:VCALENDAR