BEGIN:VCALENDAR
VERSION:2.0
PRODID:www.reiseregion-flaeming.de
BEGIN:VEVENT
UID:69ea1757b8d3b
DTSTART:20260510T150000Z
SEQUENCE:0
TRANSP:OPAQUE
DTEND:20260510T170000Z
URL:http://www.reiseregion-flaeming.de/veranstaltung/flaeming/wer-andern-ei
 ne-grube-graebt-ist-laengst-verheiratet
LOCATION:Volksbühne Michendorf\, Potsdamer Straße 42\, 14552 Michendorf
X-APPLE-STRUCTURED-LOCATION;VALUE=URI;X-ADDRESS="Volksbühne Michendorf, Po
 tsdamer Straße 42, 14552 Michendorf";X-APPLE-RADIUS=49;X-TITLE=Volksbühn
 e Michendorf:geo:13.030969,52.313212
GEO:13.030969;52.313212
SUMMARY:Wer andern eine Grube gräbt\, ist längst verheiratet
CLASS:PUBLIC
DESCRIPTION:„Die Ehe ist der Versuch\, zu zweit mit Problemen fertig zu w
 erden\, die man alleine nie gehabt hätte.“ Woody Allen\n\nEs gibt viele
  Gründe\, neben der Liebe und Zuneigung\, die für eine Heirat sprechen. 
 Aufgeräumte Wohnung\, immer frische Wäsche\, Essen auf dem Tisch und und
  und…\n\nOb diese Ehe dann auch glücklich ist ????? Da kann man nur Cli
 nt Eastwood zitieren\, der meinte:\n\n„Es gibt nur einen Weg\, eine glü
 ckliche Ehe zu führen\, und sobald ich erfahre\, welcher das ist\, werde 
 ich erneut heiraten.“\n\nÜber das FÜR und WIDER einer Ehe hat Alexande
 r g. Schäfer aus eigenen und fremden Erfahrungen nun Material gesammelt\,
  Geschichten\, Aphorismen\, Anekdoten und wird darüber humorvoll reverier
 en. Was dann das Publikum daraus entnimmt\, kann er natürlich nicht beein
 flussen. Er hält es da philosophisch mit Sokrates\, der einmal äußerte:
 \n\n„Heirate oder heirate nicht. Du wirst beides bereuen.“\n\nKontakt:
 \n\nVolksbühne Michendorf\nPotsdamer Str. 42\n14552 Michendorf\nTelefon: 
 +49 33205 268188\nEmail: direktion@volksbuehnemichendorf.de\n\nWeitere Inf
 ormationen zur Veranstaltung: http://www.reiseregion-flaeming.de/veranstal
 tung/flaeming/wer-andern-eine-grube-graebt-ist-laengst-verheiratet
CATEGORIES:Lesung / Vortrag
DTSTAMP:20260423T125759Z
END:VEVENT
END:VCALENDAR