BEGIN:VCALENDAR
VERSION:2.0
PRODID:www.reiseregion-flaeming.de
BEGIN:VEVENT
UID:69e9287f0c352
DTSTART:20260503T113000Z
SEQUENCE:0
TRANSP:OPAQUE
DTEND:20260503T130000Z
URL:http://www.reiseregion-flaeming.de/veranstaltung/barnimer-land/reise-in
 -die-steinzeit-fuehrung-fuer-kinder-6-10-jahre
LOCATION:BARNIM PANORAMA\, Breitscheidstraße 8-9\, 16348 Wandlitz
X-APPLE-STRUCTURED-LOCATION;VALUE=URI;X-ADDRESS="BARNIM PANORAMA, Breitsche
 idstraße 8-9, 16348 Wandlitz";X-APPLE-RADIUS=49;X-TITLE=BARNIM PANORAMA:g
 eo:13.454762,52.751742
GEO:13.454762;52.751742
SUMMARY:Reise in die Steinzeit – Führung für Kinder (6–10 Jahre)
CLASS:PUBLIC
DESCRIPTION:Wie lebten Menschen in der Steinzeit? Kommt mit auf eine spanne
 nde Zeitreise in das Barnim Panorama!  \nVom Mammut bis zum selbst geformt
 en Tonobjekt entdeckt ihr spielerisch das Leben in der Steinzeit. Euch erw
 arten echte Fundstücke und viele Dinge zum Anfassen aus längst vergangen
 er Zeit. Gemeinsam erforschen wir Materialien\, ordnen Funde am Zeitstrahl
  ein und machen Geschichte lebendig.\n\nZum Abschluss werdet ihr selbst kr
 eativ und gestaltet eure eigene Steinzeitkunst mit Kohle und Ton.\n\n  \nF
 ür alle Kinder von 6–10 Jahren – ohne Anmeldung\, einfach vorbeikomme
 n!\n\nKosten: regulärer Museumseintritt (Erwachsene: 6 €\, Kinder:2\,50
  €)\n\nKontakt:\n\nBarnim Panorama\nBreitscheidstr. 8-9\n16348 Wandlitz\
 nTelefon: +49 033397 360505\nEmail: veranstaltung-bapa@wandlitz.de\n\nWeit
 ere Informationen zur Veranstaltung: http://www.reiseregion-flaeming.de/ve
 ranstaltung/barnimer-land/reise-in-die-steinzeit-fuehrung-fuer-kinder-6-10
 -jahre
CATEGORIES:Kinder und Jugendliche,Ausstellung,Führung / Besichtigung
DTSTAMP:20260422T195855Z
END:VEVENT
END:VCALENDAR