BEGIN:VCALENDAR
VERSION:2.0
PRODID:www.reiseregion-flaeming.de
BEGIN:VEVENT
UID:69e5a60799f97
DTSTART:20260430T150000Z
SEQUENCE:0
TRANSP:OPAQUE
DTEND:20260430T210000Z
URL:http://www.reiseregion-flaeming.de/veranstaltung/flaeming/tanz-in-den-m
 ai
LOCATION:Wiesenburg\, Schlossstraße 1\, 14827 Wiesenburg
X-APPLE-STRUCTURED-LOCATION;VALUE=URI;X-ADDRESS="Wiesenburg, Schlossstraße
  1, 14827 Wiesenburg";X-APPLE-RADIUS=49;X-TITLE=Wiesenburg:geo:12.453563,5
 2.112925
GEO:12.453563;52.112925
SUMMARY:Tanz in den Mai
CLASS:PUBLIC
DESCRIPTION:Auf dem Goetheplatz wird traditionell der Maibaum aufgestellt\,
  es folgt der Fackelumzug mit der FFW\, und danach geht die Party ab.\n\nK
 ontakt:\n\nGemeinde Wiesenburg\nSchlossstr. 1\n14827 Wiesenburg/Mark\nTele
 fon: +49 33849 7980\nEmail: gemeinde@wiesenburgmark.de\nWebseite: https://
 www.wiesenburgmark.de/\n\nWeitere Informationen zur Veranstaltung: http://
 www.reiseregion-flaeming.de/veranstaltung/flaeming/tanz-in-den-mai
CATEGORIES:Fest / Brauchtum,Fest / Brauchtum,Führung / Besichtigung
DTSTAMP:20260420T040527Z
END:VEVENT
END:VCALENDAR