BEGIN:VCALENDAR
VERSION:2.0
PRODID:www.reiseregion-flaeming.de
BEGIN:VEVENT
UID:69e5a580578c9
DTSTART:20260502T120000Z
SEQUENCE:0
TRANSP:OPAQUE
DTEND:20260502T160000Z
URL:http://www.reiseregion-flaeming.de/veranstaltung/flaeming/offenes-ateli
 er-auch-in-wiesenburg
LOCATION:Wiesenburg\, Schlossstraße 1\, 14827 Wiesenburg
X-APPLE-STRUCTURED-LOCATION;VALUE=URI;X-ADDRESS="Wiesenburg, Schlossstraße
  1, 14827 Wiesenburg";X-APPLE-RADIUS=49;X-TITLE=Wiesenburg:geo:12.453563,5
 2.112925
GEO:12.453563;52.112925
SUMMARY:Offenes Atelier auch in Wiesenburg
CLASS:PUBLIC
DESCRIPTION:Für Sie öffnet die Malerin Stephanie Nückel ihr Atelier  in 
 der Görzker Straße 7\, 14827 Wiesenburg/Mark\n\nSamstag von 14-18 Uhr\n\
 nSonntag von 11-18 Uhr\n\n**Kontakt**  \n[stephanja@web.de](mailto:stephan
 ja@web.de)  \n[www.artxs.de](https://www.artxs.de/)\n\nund viele weitere K
 ünstler erwarten Sie in der Umgebung:\n\n[https://offeneateliersbrandenbu
 rg.de](https://offeneateliersbrandenburg.de/2026_n_ckel_stephanie/)\n\nKon
 takt:\n\nStephanie Nückel\nGörzker Straße  14\n14827 Wiesenburg/Mark\nT
 elefon: +49 033849 7980\nEmail: stephanja@web.de\nWebseite: https://www.ar
 txs.de\n\nWeitere Informationen zur Veranstaltung: http://www.reiseregion-
 flaeming.de/veranstaltung/flaeming/offenes-atelier-auch-in-wiesenburg
CATEGORIES:Lesung / Vortrag,Workshop / Seminar,Führung / Besichtigung
DTSTAMP:20260420T040312Z
END:VEVENT
BEGIN:VEVENT
UID:69e5a5805feb0
DTSTART:20260503T090000Z
SEQUENCE:0
TRANSP:OPAQUE
DTEND:20260503T160000Z
URL:http://www.reiseregion-flaeming.de/veranstaltung/flaeming/offenes-ateli
 er-auch-in-wiesenburg
LOCATION:Wiesenburg\, Schlossstraße 1\, 14827 Wiesenburg
X-APPLE-STRUCTURED-LOCATION;VALUE=URI;X-ADDRESS="Wiesenburg, Schlossstraße
  1, 14827 Wiesenburg";X-APPLE-RADIUS=49;X-TITLE=Wiesenburg:geo:12.453563,5
 2.112925
GEO:12.453563;52.112925
SUMMARY:Offenes Atelier auch in Wiesenburg
CLASS:PUBLIC
DESCRIPTION:Für Sie öffnet die Malerin Stephanie Nückel ihr Atelier  in 
 der Görzker Straße 7\, 14827 Wiesenburg/Mark\n\nSamstag von 14-18 Uhr\n\
 nSonntag von 11-18 Uhr\n\n**Kontakt**  \n[stephanja@web.de](mailto:stephan
 ja@web.de)  \n[www.artxs.de](https://www.artxs.de/)\n\nund viele weitere K
 ünstler erwarten Sie in der Umgebung:\n\n[https://offeneateliersbrandenbu
 rg.de](https://offeneateliersbrandenburg.de/2026_n_ckel_stephanie/)\n\nKon
 takt:\n\nStephanie Nückel\nGörzker Straße  14\n14827 Wiesenburg/Mark\nT
 elefon: +49 033849 7980\nEmail: stephanja@web.de\nWebseite: https://www.ar
 txs.de\n\nWeitere Informationen zur Veranstaltung: http://www.reiseregion-
 flaeming.de/veranstaltung/flaeming/offenes-atelier-auch-in-wiesenburg
CATEGORIES:Lesung / Vortrag,Workshop / Seminar,Führung / Besichtigung
DTSTAMP:20260420T040312Z
END:VEVENT
END:VCALENDAR