BEGIN:VCALENDAR
VERSION:2.0
PRODID:www.reiseregion-flaeming.de
BEGIN:VEVENT
UID:69e4e6dfa5a18
DTSTART:20261122T150000Z
SEQUENCE:0
TRANSP:OPAQUE
DTEND:20261122T163000Z
URL:http://www.reiseregion-flaeming.de/veranstaltung/flaeming/lukas-natschi
 nski-im-kleinkunstwerk-bad-belzig
LOCATION:KKW-Kleinkunstwerk Bad Belzig\, Mühlenhölzchen 1A\, 14806 Bad Be
 lzig
X-APPLE-STRUCTURED-LOCATION;VALUE=URI;X-ADDRESS="KKW-Kleinkunstwerk Bad Bel
 zig, Mühlenhölzchen 1A, 14806 Bad Belzig";X-APPLE-RADIUS=49;X-TITLE=KKW-
 Kleinkunstwerk Bad Belzig:geo:12.592666,52.142926
GEO:12.592666;52.142926
SUMMARY:Lukas Natschinski im KleinKunstWerk Bad Belzig
CLASS:PUBLIC
DESCRIPTION:15 Uhr KaffeKuchenKlatsch 16 Uhr Konzert  \nRote Rosen – Erin
 nerungen an Gerd Natschinski\n\nEntdecken Sie das musikalische Erbe von Ge
 rd Natschinski in „Rote Rosen – Erinnerungen an Gerd Natschinski”. M
 it seiner unverwechselbaren Kunst hat Natschinski unvergessliche Melodien 
 geschaffen\, die bis heute in den Ohren vieler klingen. Im August 2023 hä
 tte dieser legendäre Musiker seinen 95. Geburtstag gefeiert.\n\nGerd Nats
 chinski\, ein Meister der Melodie\, verzauberte mit Hits wie „Zwei gute 
 Freunde” (Fred Frohberg\, 1957)\, „Damals” (Bärbel Wachholz\, 1959)
  und „Rom-ta-rom” (Regina Thoss\, 1971). Seine kreative Vielfalt spieg
 elt sich in Werken wie der Operette „Messeschlager Gisela” (1960) und 
 dem ersten DDR-Musical „Mein Freund Bunbury” (1964)\, realisiert mit d
 en talentierten Librettisten Jürgen Degenhardt und Helmut Bez.\n\nKontakt
 :\n\nKKW-Kleinkunstwerk Bad Belzig\nMuehlenhoelzchen 1A\n14806 \nTelefon: 
 +49 033841/796981\nEmail: tourist.information@bad-belzig.de\nWebseite: htt
 p://www.bad-belzig.de\n\nWeitere Informationen zur Veranstaltung: http://w
 ww.reiseregion-flaeming.de/veranstaltung/flaeming/lukas-natschinski-im-kle
 inkunstwerk-bad-belzig
CATEGORIES:Theater / Tanz / Kabarett,Essen und Trinken,Chor / Folklore / Vo
 lksmusik
DTSTAMP:20260419T142951Z
END:VEVENT
END:VCALENDAR