BEGIN:VCALENDAR
VERSION:2.0
PRODID:www.reiseregion-flaeming.de
BEGIN:VEVENT
UID:69e5de6381a5b
DTSTART:20260422T150000Z
SEQUENCE:0
TRANSP:OPAQUE
DTEND:20260422T170000Z
URL:http://www.reiseregion-flaeming.de/veranstaltung/dahme-seenland/alles-h
 at-seinen-biologischen-sinn-die-etwas-andere-kraeuter-und-naturwanderung
LOCATION:Kräuter- und Naturhof\, An der Dabernack 2\, 15754 Heidesee
X-APPLE-STRUCTURED-LOCATION;VALUE=URI;X-ADDRESS="Kräuter- und Naturhof, An
  der Dabernack 2, 15754 Heidesee";X-APPLE-RADIUS=49;X-TITLE=Kräuter- und 
 Naturhof:geo:13.808927,52.243474
GEO:13.808927;52.243474
SUMMARY:Alles hat seinen bioLOgischen Sinn - die etwas andere Kräuter- und
  Naturwanderung
CLASS:PUBLIC
DESCRIPTION:Krankheiten & Symptome haben ihre Ursachen und ihren Ursprung\,
  ob durch Gene oder durch das alltägliche Leben …\n\nKräuter und Bäum
 e stehen uns immer zur Seite und begleiten uns auf unterschiedlichen Wegen
  in einer Teemischung\, als Essenz\, als Pflegebalsam\, in der Küche oder
  als Botschafter *in der Natur.\n\nDie Termine für unsere neue monatliche
  Themenreihe finden Sie auch auf unserer homepage unter: www. kräuterundn
 aturhof.de/Veranstaltungen\n\nMittwoch\, 22. April 2026 – 17.00 bis 19.0
 0 Uhr\n\n**Angst vor Gefühlen**\n\nLoslassen leicht und verständlich erk
 lärt in der Natur\, aus der Natur und vom psychischen und physiologischen
  Ursprung her. Ich zeige Ihnen anhand von Pflanzen und Bäumen\, ob ein Sc
 hutz oder Rückzug erforderlich ist oder wie sie uns gesundheitlich beglei
 ten\, wenn es mal eng wird.\n\nHinweis/ Empfehlung - dem Wetter angepasste
  Kleidung ist anzuziehen (Outdoorveranstaltung) und Notizmaterialien wie e
 in Block und ein Stift sind mitzubringen sowie ein Getränk für die Zeit 
 der Wanderung.\n\nKontakt:\n\nKräuter- und Naturhof\nAn der Dabernack 2\n
 15754 Heidesee\nTelefon: +49 172 9915754\nEmail: kraeuterundnaturhof@gmail
 .com\n\nWeitere Informationen zur Veranstaltung: http://www.reiseregion-fl
 aeming.de/veranstaltung/dahme-seenland/alles-hat-seinen-biologischen-sinn-
 die-etwas-andere-kraeuter-und-naturwanderung
CATEGORIES:Wellness / Gesundheit,Workshop / Seminar,Führung / Besichtigung
DTSTAMP:20260420T080555Z
END:VEVENT
END:VCALENDAR