BEGIN:VCALENDAR
VERSION:2.0
PRODID:www.reiseregion-flaeming.de
BEGIN:VEVENT
UID:69e89faabbdca
DTSTART:20260502T040000Z
SEQUENCE:0
TRANSP:OPAQUE
DTEND:20260502T080000Z
URL:http://www.reiseregion-flaeming.de/veranstaltung/ruppiner-seenland/voge
 lstimmenwanderung-rund-um-zernikow-2
LOCATION:Gut Zernikow\, Zernikower Straße  40\, 16775 Großwoltersdorf
X-APPLE-STRUCTURED-LOCATION;VALUE=URI;X-ADDRESS="Gut Zernikow, Zernikower S
 traße  40, 16775 Großwoltersdorf";X-APPLE-RADIUS=49;X-TITLE=Gut Zernikow
 :geo:13.093328,53.091397
GEO:13.093328;53.091397
SUMMARY:Vogelstimmenwanderung rund um Zernikow
CLASS:PUBLIC
DESCRIPTION:Im Frühling haben unsere gefiederten Freunde wieder sehr viel 
 zu singen. Jede Art hat ihren eigenen Gesang. Oft gibt es sogar noch regio
 nale Dialekte.\n\nWer sich in Sachen Vogelstimmen weiterbilden will oder a
 uch nur Freude am stillen Lauschen des Vogelgesangs hat\, dem sei die Teil
 nahme an einer Vogelstimmenexkursion mit Bernd Ewert empfohlen.\n\nTreffpu
 nkt und Start:\n\nSamstag\, 2. Mai 2026\, Parkplatz Gut Zernikow in Zernik
 ow: 6.00 Uhr!!!\n\nAnschließend kehren die vogelkundlich Geschulten gemei
 nsam beim zertifizierten Naturpark-Partner Café & Crêperie \"Bric à Bra
 c\" im Gutshof Zernikow ein\, um das Gesehene und Gehörte auszuwerten und
  sich zu stärken.\n\n**Bitte unbedingt vorher anmelden!**\n\nKontakt:\n\n
 Naturparkverwaltung Naturpark Stechlin-Ruppiner Land\nFriedensplatz 9\n167
 75 Stechlin\nTelefon: \nEmail: np-stechlin-ruppiner-land@lfu.brandenburg.d
 e\nWebseite: https://www.stechlin-ruppiner-land-naturpark.de/\n\nWeitere I
 nformationen zur Veranstaltung: http://www.reiseregion-flaeming.de/veranst
 altung/ruppiner-seenland/vogelstimmenwanderung-rund-um-zernikow-2
CATEGORIES:Exkursion / Wanderung
DTSTAMP:20260422T101506Z
END:VEVENT
END:VCALENDAR