BEGIN:VCALENDAR
VERSION:2.0
PRODID:www.reiseregion-flaeming.de
BEGIN:VEVENT
UID:69e8a00be4f86
DTSTART:20260509T150000Z
SEQUENCE:0
TRANSP:OPAQUE
DTEND:20260509T160000Z
URL:http://www.reiseregion-flaeming.de/veranstaltung/dahme-seenland/fruehli
 ngskonzert-singekreis-wildau
LOCATION:Evangelische Friedenskirche Wildau\, Kirchstraße 1\, 15745 Wildau
X-APPLE-STRUCTURED-LOCATION;VALUE=URI;X-ADDRESS="Evangelische Friedenskirch
 e Wildau, Kirchstraße 1, 15745 Wildau";X-APPLE-RADIUS=49;X-TITLE=Evangeli
 sche Friedenskirche Wildau:geo:13.627958,52.315759
GEO:13.627958;52.315759
SUMMARY:Frühlingskonzert - Singekreis Wildau
CLASS:PUBLIC
DESCRIPTION:Das traditionelle Frühlingssingen des Chores in der Friedenski
 rche Wildau dauert etwa eine Stunde. Die Sängerinnen und Sänger brauchen
  nach etwa zwei Dritteln des Programmes eine kurze Pause zur Erholung. In 
 dieser Zeit tritt der Musik-Express auf und erfreut das Publikum mit einig
 en Instrumentalstücken passend zum Titel des Chorprogramms.\n\nKontakt:\n
 \nKulturkreis Wildau\nKarl-Marx-Str. 114\n15745 Wildau\nTelefon: +49 3375 
 56 11 15\nEmail: info@kulturkreiswildau.de\nWebseite: https://kulturkreisw
 ildau.de/\n\nWeitere Informationen zur Veranstaltung: http://www.reiseregi
 on-flaeming.de/veranstaltung/dahme-seenland/fruehlingskonzert-singekreis-w
 ildau
CATEGORIES:Chor / Folklore / Volksmusik
DTSTAMP:20260422T101644Z
END:VEVENT
END:VCALENDAR