BEGIN:VCALENDAR
VERSION:2.0
PRODID:www.reiseregion-flaeming.de
BEGIN:VEVENT
UID:69e9fef4422de
DTSTART:20260425T080000Z
SEQUENCE:0
TRANSP:OPAQUE
DTEND:20260425T160000Z
URL:http://www.reiseregion-flaeming.de/veranstaltung/potsdam/fruehlingsmark
 t-auf-der-freundschaftsinsel
LOCATION:Freundschaftsinsel Potsdam\, Freundschaftsinsel\, 14467 Potsdam
X-APPLE-STRUCTURED-LOCATION;VALUE=URI;X-ADDRESS="Freundschaftsinsel Potsdam
 , Freundschaftsinsel, 14467 Potsdam";X-APPLE-RADIUS=49;X-TITLE=Freundschaf
 tsinsel Potsdam:geo:13.064697,52.394902
GEO:13.064697;52.394902
SUMMARY:Frühlingsmarkt auf der Freundschaftsinsel
CLASS:PUBLIC
DESCRIPTION:Auf der Freundschaftsinsel in Potsdam lädt ein Frühlingsmarkt
  dazu ein\, Garten\, Natur und saisonale Ideen neu zu entdecken. Zahlreich
 e Verkaufs-\, Informations- und Aktionsstände bieten eine große Auswahl 
 von Keramik und Pflanzen über Bücher\, Porzellan und Malerei bis hin zu 
 Handgefertigtem\, Honig und Spezialitäten aus der Kräuterwerkstatt. Erg
 änzt wird das Programm durch Mitmachaktionen und Workshops\, bei denen ei
 gene kreative Ideen umgesetzt werden können.\n\nGartenführungen geben an
  beiden Tagen jeweils um 11 und 13 Uhr Einblicke in die Geschichte der Fre
 undschaftsinsel. Treffpunkt ist das Schwanentorhaus. \n\nEin Kuchenbasar u
 nd musikalische Begleitung schaffen eine entspannte\, frühlingshafte Atmo
 sphäre und laden zum Verweilen ein. Ein besonderes Highlight ist der Auft
 ritt des Fanfarenzuges am Sonntag um 15 Uhr.\n\nKontakt:\n\nFreunde der Fr
 eundschaftsinsel e. V.\nJörg Näthe\nFreundschaftsinsel\n14467 Potsdam\nT
 elefon: +49 0331 2803375\nEmail: verein@freundschaftsinsel-potsdam.de\nWeb
 seite: https://www.freundschaftsinsel-potsdam.de/\n\nWeitere Informationen
  zur Veranstaltung: http://www.reiseregion-flaeming.de/veranstaltung/potsd
 am/fruehlingsmarkt-auf-der-freundschaftsinsel
CATEGORIES:Markt,Führung / Besichtigung
DTSTAMP:20260423T111356Z
END:VEVENT
BEGIN:VEVENT
UID:69e9fef44eaa2
DTSTART:20260426T080000Z
SEQUENCE:0
TRANSP:OPAQUE
DTEND:20260426T160000Z
URL:http://www.reiseregion-flaeming.de/veranstaltung/potsdam/fruehlingsmark
 t-auf-der-freundschaftsinsel
LOCATION:Freundschaftsinsel Potsdam\, Freundschaftsinsel\, 14467 Potsdam
X-APPLE-STRUCTURED-LOCATION;VALUE=URI;X-ADDRESS="Freundschaftsinsel Potsdam
 , Freundschaftsinsel, 14467 Potsdam";X-APPLE-RADIUS=49;X-TITLE=Freundschaf
 tsinsel Potsdam:geo:13.064697,52.394902
GEO:13.064697;52.394902
SUMMARY:Frühlingsmarkt auf der Freundschaftsinsel
CLASS:PUBLIC
DESCRIPTION:Auf der Freundschaftsinsel in Potsdam lädt ein Frühlingsmarkt
  dazu ein\, Garten\, Natur und saisonale Ideen neu zu entdecken. Zahlreich
 e Verkaufs-\, Informations- und Aktionsstände bieten eine große Auswahl 
 von Keramik und Pflanzen über Bücher\, Porzellan und Malerei bis hin zu 
 Handgefertigtem\, Honig und Spezialitäten aus der Kräuterwerkstatt. Erg
 änzt wird das Programm durch Mitmachaktionen und Workshops\, bei denen ei
 gene kreative Ideen umgesetzt werden können.\n\nGartenführungen geben an
  beiden Tagen jeweils um 11 und 13 Uhr Einblicke in die Geschichte der Fre
 undschaftsinsel. Treffpunkt ist das Schwanentorhaus. \n\nEin Kuchenbasar u
 nd musikalische Begleitung schaffen eine entspannte\, frühlingshafte Atmo
 sphäre und laden zum Verweilen ein. Ein besonderes Highlight ist der Auft
 ritt des Fanfarenzuges am Sonntag um 15 Uhr.\n\nKontakt:\n\nFreunde der Fr
 eundschaftsinsel e. V.\nJörg Näthe\nFreundschaftsinsel\n14467 Potsdam\nT
 elefon: +49 0331 2803375\nEmail: verein@freundschaftsinsel-potsdam.de\nWeb
 seite: https://www.freundschaftsinsel-potsdam.de/\n\nWeitere Informationen
  zur Veranstaltung: http://www.reiseregion-flaeming.de/veranstaltung/potsd
 am/fruehlingsmarkt-auf-der-freundschaftsinsel
CATEGORIES:Markt,Führung / Besichtigung
DTSTAMP:20260423T111356Z
END:VEVENT
END:VCALENDAR