BEGIN:VCALENDAR
VERSION:2.0
PRODID:www.reiseregion-flaeming.de
BEGIN:VEVENT
UID:69eb39f3bf983
DTSTART:20260508T090000Z
SEQUENCE:0
TRANSP:OPAQUE
DTEND:20260508T103000Z
URL:http://www.reiseregion-flaeming.de/veranstaltung/potsdam/kunst-fuer-seh
 behinderte-und-blinde-menschen
LOCATION:Museum Barberini\, Humboldtstr. 5–6\, 14467 Potsdam
X-APPLE-STRUCTURED-LOCATION;VALUE=URI;X-ADDRESS="Museum Barberini, Humboldt
 str. 5–6, 14467 Potsdam";X-APPLE-RADIUS=49;X-TITLE=Museum Barberini:geo:
 13.062202,52.395473
GEO:13.062202;52.395473
SUMMARY:Kunst für sehbehinderte und blinde Menschen
CLASS:PUBLIC
DESCRIPTION:Das Museum Barberini zeigt Bilder aus dem Impressionismus.  \nB
 ei dieser Führung erleben Sie die Kunst mit verschiedenen Sinnen.  \nMode
 lle zum Anfassen zeigen Formen und Pinselstriche.  \nEine Fachperson besch
 reibt die Bilder genau.\n\n**Hinweis:**  \nBitte melden Sie sich an.\n\nKo
 ntakt:\n\nMuseum Barberini\n\n \nTelefon: +49 331 236014499\nEmail: besuch
 erservice@museum-barberini.de\n\nWeitere Informationen zur Veranstaltung: 
 http://www.reiseregion-flaeming.de/veranstaltung/potsdam/kunst-fuer-sehbeh
 inderte-und-blinde-menschen
CATEGORIES:Führung / Besichtigung
DTSTAMP:20260424T093756Z
END:VEVENT
END:VCALENDAR