BEGIN:VCALENDAR
VERSION:2.0
PRODID:www.reiseregion-flaeming.de
BEGIN:VEVENT
UID:69e7665c40afd
DTSTART:20260421T150000Z
SEQUENCE:0
TRANSP:OPAQUE
DTEND:20260421T170000Z
URL:http://www.reiseregion-flaeming.de/veranstaltung/potsdam/von-der-schule
 -in-den-beruf-unterstuetzung-fuer-jugendliche-mit-autismus-infoabend
LOCATION:Oberlinschule auf dem Gelände des Oberlinhaus\, Rudolf-Breitschei
 d-Straße 24\, 14482 Potsdam
X-APPLE-STRUCTURED-LOCATION;VALUE=URI;X-ADDRESS="Oberlinschule auf dem Gel
 ände des Oberlinhaus, Rudolf-Breitscheid-Straße 24, 14482 Potsdam";X-APP
 LE-RADIUS=49;X-TITLE=Oberlinschule auf dem Gelände des Oberlinhaus:geo:13
 .048838,52.399551
GEO:13.048838;52.399551
SUMMARY:Von der Schule in den Beruf: Unterstützung für Jugendliche mit Au
 tismus – Infoabend
CLASS:PUBLIC
DESCRIPTION:Die Oberlinschule begleitet Jugendliche mit Autismus drei Jahre
  lang von der Schule ins Arbeitsleben. An diesem Infoabend erfahren Sie\, 
 wie die Unterstützung aussieht. Es gibt Zeit für Fragen und Austausch.\n
 \n**Hinweis:**  \nDas Angebot richtet sich an pädagogische Fachkräfte\, 
 Eltern sowie weitere Interessierte.\n\nKontakt:\n\nOberlinhaus\nAnke Lerch
 \nRudolf-Breitscheid-Str. 24\n14482 Potsdam\nTelefon: +49 160  97619119\nE
 mail: anke.lerch@oberlinhaus.de\n\nWeitere Informationen zur Veranstaltung
 : http://www.reiseregion-flaeming.de/veranstaltung/potsdam/von-der-schule-
 in-den-beruf-unterstuetzung-fuer-jugendliche-mit-autismus-infoabend
CATEGORIES:Lesung / Vortrag
DTSTAMP:20260421T115820Z
END:VEVENT
END:VCALENDAR