BEGIN:VCALENDAR
VERSION:2.0
PRODID:www.reiseregion-flaeming.de
BEGIN:VEVENT
UID:69e649971224b
DTSTART:20260421T150000Z
SEQUENCE:0
TRANSP:OPAQUE
DTEND:20260421T163000Z
URL:http://www.reiseregion-flaeming.de/veranstaltung/potsdam/workshop-einfu
 ehrung-in-das-potsdamwiki
LOCATION:Stadt- und Landesbibliothek Potsdam\, Am Kanal 47\, 14467 Potsdam
X-APPLE-STRUCTURED-LOCATION;VALUE=URI;X-ADDRESS="Stadt- und Landesbibliothe
 k Potsdam, Am Kanal 47, 14467 Potsdam";X-APPLE-RADIUS=49;X-TITLE=Stadt- un
 d Landesbibliothek Potsdam:geo:13.059112,52.397182
GEO:13.059112;52.397182
SUMMARY:Workshop: Einführung in das PotsdamWiki
CLASS:PUBLIC
DESCRIPTION:Das kostenfreie Online-Lexikon umfasst rund 1.900 Artikel und w
 urde in 20 Jahren über 18 Millionen Mal aufgerufen. Als Mitmach-Projekt l
 ebt es vom Wissen seiner inzwischen 510 Autoren. Das Stadtwiki wird seit 2
 006 vom Kulturstadtverein betrieben und 2023 technisch erneuert. Dadurch i
 st es anwenderfreundlicher geworden und die Darstellung passt sich nun aut
 omatisch der Bildschirmgröße an. \n\nIm Workshop zeigen wir\, wie Artike
 l angelegt\, ergänzt oder korrigiert sowie Bilder eingebunden werden. Sie
  lernen die Anwendung kennen und können sie live ausprobieren. Gern könn
 en Sie mobile Geräte mitbringen. \n\nSie sind herzlich eingeladen!\n\nKon
 takt:\n\nStadt- und Landesbibliothek Potsdam\nAm Kanal 47\n14467 Potsdam\n
 Telefon: +49 331 2896666\nEmail: slb@bibliothek.potsdam.de\nWebseite: http
 s://bibliothek.potsdam.de/de\n\nWeitere Informationen zur Veranstaltung: h
 ttp://www.reiseregion-flaeming.de/veranstaltung/potsdam/workshop-einfuehru
 ng-in-das-potsdamwiki
CATEGORIES:Workshop / Seminar
DTSTAMP:20260420T154319Z
END:VEVENT
END:VCALENDAR