BEGIN:VCALENDAR
VERSION:2.0
PRODID:www.reiseregion-flaeming.de
BEGIN:VEVENT
UID:69ed81b2c5c7e
DTSTART:20260426T100000Z
SEQUENCE:0
TRANSP:OPAQUE
DTEND:20260426T180000Z
URL:http://www.reiseregion-flaeming.de/veranstaltung/seenland-oder-spree/st
 reet-food-festival-gruenheide
LOCATION:Festwiese Grünheide (Mark)\, An der Alten Schule 5\, 15537 Grünh
 eide (Mark)
X-APPLE-STRUCTURED-LOCATION;VALUE=URI;X-ADDRESS="Festwiese Grünheide (Mark
 ), An der Alten Schule 5, 15537 Grünheide (Mark)";X-APPLE-RADIUS=49;X-TIT
 LE=Festwiese Grünheide (Mark):geo:13.820199,52.422408
GEO:13.820199;52.422408
SUMMARY:Street Food Festival Grünheide
CLASS:PUBLIC
DESCRIPTION:Vom 24. bis 26. April 2026 wird die Festwiese Grünheide zum Ho
 tspot für FeinschmeckerInnen und Festival-LiebhaberInnen aller Altersgrup
 pen! \n\nDas Street Food Festival in Zusammenarbeit mit Hauptstadtkultur v
 erspricht ein kulinarisches Highlight für Jung und Alt.\n\nHier könnt ih
 r euch durch eine riesige Auswahl an Street Food aus aller Welt schlemmen 
 – von herzhaft bis süß\, vegan bis fleischig\, für jede*n ist etwas d
 abei!\n\n Doch das ist noch nicht alles: Neben den leckeren Snacks gibt es
  auch Live-Musik und eine entspannte Atmosphäre\, die zum Verweilen und G
 enießen einlädt.\n\nDer Eintritt kostet 2 €\, die direkt in eine Getr
 änkemarke umgewandelt werden\, sodass ihr euch auch bei einem kühlen Dri
 nk erfrischen könnt.\n\nKommt vorbei\, entdeckt neue Geschmackserlebnisse
  und feiert mit uns – das wird ein unvergessliches Wochenende!\n\nKontak
 t:\n\nGemeinde Grünheide (Mark)\nAm Marktplatz 1\n15537 Grünheide (Mark)
 \nTelefon: +49 03362 5088160\nEmail: veranstaltung@gemeinde-gruenheide.de\
 n\nWeitere Informationen zur Veranstaltung: http://www.reiseregion-flaemin
 g.de/veranstaltung/seenland-oder-spree/street-food-festival-gruenheide
CATEGORIES:Essen und Trinken
DTSTAMP:20260426T030836Z
END:VEVENT
END:VCALENDAR