BEGIN:VCALENDAR
VERSION:2.0
PRODID:www.reiseregion-flaeming.de
BEGIN:VEVENT
UID:69e747ff2bb7d
DTSTART:20260531T071500Z
SEQUENCE:0
TRANSP:OPAQUE
DTEND:20260531T121500Z
URL:http://www.reiseregion-flaeming.de/veranstaltung/flaeming/erlebnistour-
 grenzgaenge-zwischen-brandenburg-und-sachsen
LOCATION:Schützenplatz Niemegk\, Am Schützenplatz\, 14823 Niemegk
X-APPLE-STRUCTURED-LOCATION;VALUE=URI;X-ADDRESS="Schützenplatz Niemegk, Am
  Schützenplatz, 14823 Niemegk";X-APPLE-RADIUS=49;X-TITLE=Schützenplatz N
 iemegk:geo:12.693081,52.070367
GEO:12.693081;52.070367
SUMMARY:ErlebnisTour: Grenzgänge zwischen Brandenburg und Sachsen
CLASS:PUBLIC
DESCRIPTION:Tour 1 des 19. Naturpark-Wanderfestes mit Ziel Stadtfest Niemeg
 k\n\nWanderleiterin Ulrike Braun vom Märkischen Wanderbund lädt beim 19.
  Naturpark-Wanderfest zu einer abwechslungsreichen Rundtour um das Flämin
 gstädtchen Niemegk ein.\n\nDie kleine Stadt\, die bis 1815 zum Kurfürste
 ntum Sachsen gehörte\, bietet spannende Erinnerungen an diese Zeit – al
 te Grenzsteine und eine kursächsische Postmeilensäule zeugen eindrucksvo
 ll von der Geschichte der Region.\n\nDie 15 Kilometer lange Wanderung füh
 rt durch eine offene\, vielfältige Landschaft mit weiten Ausblicken und w
 eitgehend auf naturbelassenen Wegen. Steile Anstiege oder schwierige Passa
 gen gibt es nicht\, doch eine gute Grundkondition ist aufgrund der Weglän
 ge erforderlich. Bitte Verpflegung für zwei kleine Pausen mitbringen\, be
 vor das Ziel auf dem Stadtfest in Niemegk erreicht wird.  \nAnmeldung erfo
 rderlich.            \n  \nTreff:  14823 Niemegk\, Schützenplatz am Wasse
 rturm  \nStart: 09:15 Uhr  \nDauer:     15 km\, 5 h mit 2 Pausen (4\,4 km/
 h)    \nTeilnehmerzahl:  max. 25 Personen  \nWanderleitung:        Ulrike 
 Braun\, Märkischer Wanderbund e.V.  \n \n\nDiese Führung ist ein Angebot
  der „Ranger- und Erlebnistouren\".\n\nKontakt:\n\nNaturparkzentrum Hohe
 r Fläming\nNaturparkzentrum Hoher Fläming\nBrennereiweg 45\n14823 Rabens
 tein/Fläming\nTelefon: +49 33848 60004\nEmail: info@flaeming.net\n\nWeite
 re Informationen zur Veranstaltung: http://www.reiseregion-flaeming.de/ver
 anstaltung/flaeming/erlebnistour-grenzgaenge-zwischen-brandenburg-und-sach
 sen
CATEGORIES:Fest / Brauchtum,Exkursion / Wanderung
DTSTAMP:20260421T094847Z
END:VEVENT
END:VCALENDAR