BEGIN:VCALENDAR
VERSION:2.0
PRODID:www.reiseregion-flaeming.de
BEGIN:VEVENT
UID:69e9e867172bd
DTSTART:20260502T080000Z
SEQUENCE:0
TRANSP:OPAQUE
DTEND:20260502T120000Z
URL:http://www.reiseregion-flaeming.de/veranstaltung/havelland/auszeit-krae
 uterwerkstatt-gruene-hausapotheke-kurs-mit-sammeln-und-kochen-3
LOCATION:Kräuter-Heidi in der Kräuterwerkstatt\, Kammeroder Weg 4\, 14548
  Schwielowsee
X-APPLE-STRUCTURED-LOCATION;VALUE=URI;X-ADDRESS="Kräuter-Heidi in der Krä
 uterwerkstatt, Kammeroder Weg 4, 14548 Schwielowsee";X-APPLE-RADIUS=49;X-T
 ITLE=Kräuter-Heidi in der Kräuterwerkstatt:geo:12.918669,52.312060
GEO:12.918669;52.312060
SUMMARY:Auszeit: Kräuterwerkstatt „Grüne Hausapotheke“ - Kurs mit Sam
 meln und Kochen!
CLASS:PUBLIC
DESCRIPTION:Mädesüss\, Gänseblümchen\, Nelkenwurz und andere Heilkräut
 er kennenlernen\, sammeln und kleine Helfer (Salben\, Tinkturen) für die 
 Hausapotheke entwickeln\, zubereiten eines Wildkräutersnacks aus Giersch\
 , Gundermann und Co\, inkl. Getränke\, Menü\, Kräuterunterlagen\n\nKont
 akt:\n\nHeidi Knappe\nKammeroder Weg 4\n14548 Schwielowsee\nTelefon: +49 0
 33209 439078\nEmail: info@kraeuter-heidi.de\nWebseite: https://www.kraeute
 r-heidi.de\n\nWeitere Informationen zur Veranstaltung: http://www.reisereg
 ion-flaeming.de/veranstaltung/havelland/auszeit-kraeuterwerkstatt-gruene-h
 ausapotheke-kurs-mit-sammeln-und-kochen-3
CATEGORIES:Essen und Trinken
DTSTAMP:20260423T093743Z
END:VEVENT
END:VCALENDAR