BEGIN:VCALENDAR
VERSION:2.0
PRODID:www.reiseregion-flaeming.de
BEGIN:VEVENT
UID:69ed64a476e8d
DTSTART:20260430T170000Z
SEQUENCE:0
TRANSP:OPAQUE
DTEND:20260430T220000Z
URL:http://www.reiseregion-flaeming.de/veranstaltung/elbe-elster-land/tanz-
 in-den-mai
LOCATION:Kulturweberei\, Oscar-Kjellberg-Straße 9\, 03238 Finsterwalde
X-APPLE-STRUCTURED-LOCATION;VALUE=URI;X-ADDRESS="Kulturweberei, Oscar-Kjell
 berg-Straße 9, 03238 Finsterwalde";X-APPLE-RADIUS=49;X-TITLE=Kulturwebere
 i:geo:13.705962,51.628162
GEO:13.705962;51.628162
SUMMARY:Tanz in den Mai
CLASS:PUBLIC
DESCRIPTION:Bereits seit 2023 lädt der Finsterwalder Sängerfest Verein zu
 m beliebten „Tanz in den Mai\" ein – und die Veranstaltung hat sich sc
 hnell zu einem echten Highlight im Finsterwalder Veranstaltungskalender en
 twickelt. Für beste Stimmung und ein breites Musikspektrum sorgt Steffen 
 Thor von den Finsterwalder Partypiraten\, die nicht zuletzt mit ihrer lege
 ndären Weihnachtsdisko am 25. Dezember zu den festen Größen der hiesige
 n Partylandschaft gehören. Ob jung oder jung geblieben – die Veranstalt
 ung zieht Gäste aller Altersklassen an. Wer lieber später kommt\, trifft
  auf ein lebhaftes Publikum zwischen 20 und 40 Jahren\, das die Nacht durc
 htanzen möchte. Für das leibliche Wohl ist ebenfalls gesorgt: Neben eine
 r großen  \nGetränkeauswahl gibt es Bockwurst und Butterbrezeln.\n\nKont
 akt:\n\nKulturweberei\nOscar-Kjellberg-Straße 9\n03238 Finsterwalde\nTele
 fon: +49 03531 5163110\nEmail: kulturweberei@finsterwalde.de\nWebseite: ht
 tps://www.kulturweberei.com/\n\nWeitere Informationen zur Veranstaltung: h
 ttp://www.reiseregion-flaeming.de/veranstaltung/elbe-elster-land/tanz-in-d
 en-mai
CATEGORIES:Theater / Tanz / Kabarett
DTSTAMP:20260426T010436Z
END:VEVENT
END:VCALENDAR