BEGIN:VCALENDAR
VERSION:2.0
PRODID:www.reiseregion-flaeming.de
BEGIN:VEVENT
UID:69e792cce63c4
DTSTART:20260530T130000Z
SEQUENCE:0
TRANSP:OPAQUE
DTEND:20260530T143000Z
URL:http://www.reiseregion-flaeming.de/veranstaltung/flaeming/stallgefluest
 er-gesundheit-im-alter-ist-moeglich
LOCATION:Kulturstall Netzen\, Netzener Dorfstrasse 9A\, 14797 Kloster Lehni
 n
X-APPLE-STRUCTURED-LOCATION;VALUE=URI;X-ADDRESS="Kulturstall Netzen, Netzen
 er Dorfstrasse 9A, 14797 Kloster Lehnin";X-APPLE-RADIUS=49;X-TITLE=Kulturs
 tall Netzen:geo:12.683586,52.343822
GEO:12.683586;52.343822
SUMMARY:Stallgeflüster: Gesundheit im Alter ist möglich
CLASS:PUBLIC
DESCRIPTION:Dr. Martin Gailhofer spricht darüber\, wie man die Gesundheit 
 mit angepasster Ernährung und Lebensweise langfristig unterstützt. Das a
 nschließende Gespräch wird moderiert von Dr. Petra Lenz (Philosophin\, S
 ystemischer Coach).\n\nDie Lebenserwartung in Deutschland betrug 1950 etwa
  67 Jahre. Diese stieg langsam auf 80 Jahre an. Allerdings beträgt die Za
 hl der gesunden Lebensjahre statistisch lediglich 57 Jahre. Das bedeutet\,
  dass wir in den letzten 23 Jahren durch Krankheiten stark beeinträchtigt
  sind.\n\nIn Japan hingegen liegt die durchschnittliche Lebenserwartung be
 i 83 Jahren und das Leben ohne körperliche Einschränkungen im Durchschni
 tt bei 74 Jahren.\n\nDr. Martin Gailhofer ist seit 39 Jahren niedergelasse
 ner Allgemeinarzt in Eichstätt und beschäftigt sich seit über 30 Jahren
  hauptsächlich mit chronisch kranken und austherapierten Patienten. Dabei
  hat er die Erfahrung gemacht\, dass sich durch eine Unterstützung des K
 örpers mit sinnvollen natürlichen Substanzen und eine an unsere Natur an
 gepasste Lebensweise selbst chronisch kranke Patienten gesundheitlich auch
  im Alter noch stabilisieren können.\n\nDie Reihe „Stallgeflüster“ l
 ädt ein\, gemeinsam zu reden\, sich auszutauschen. Jedes Treffen widmet s
 ich einem Thema\, das von Dr. Petra Lenz moderiert wird.\n\nJede/r ist wil
 lkommen.\n\nEs gibt Kaffee\, Tee und Kuchen.\n\nKontakt:\n\nTheater Weites
  Feld e.V.\nNetzener Dorfstr. 9a\n14797 Kloster Lehnin\nTelefon: +49 1577 
 4302473\nEmail: info@theater-weites-feld.de\n\nWeitere Informationen zur V
 eranstaltung: http://www.reiseregion-flaeming.de/veranstaltung/flaeming/st
 allgefluester-gesundheit-im-alter-ist-moeglich
CATEGORIES:Theater / Tanz / Kabarett,Lesung / Vortrag
DTSTAMP:20260421T150756Z
END:VEVENT
END:VCALENDAR