BEGIN:VCALENDAR
VERSION:2.0
PRODID:www.reiseregion-flaeming.de
BEGIN:VEVENT
UID:69ed6231233a2
DTSTART:20260509T180000Z
SEQUENCE:0
TRANSP:OPAQUE
DTEND:20260509T203000Z
URL:http://www.reiseregion-flaeming.de/veranstaltung/elbe-elster-land/niz-b
 okelberg
LOCATION:Kulturweberei\, Oscar-Kjellberg-Straße 9\, 03238 Finsterwalde
X-APPLE-STRUCTURED-LOCATION;VALUE=URI;X-ADDRESS="Kulturweberei, Oscar-Kjell
 berg-Straße 9, 03238 Finsterwalde";X-APPLE-RADIUS=49;X-TITLE=Kulturwebere
 i:geo:13.705962,51.628162
GEO:13.705962;51.628162
SUMMARY:Niz Bokelberg
CLASS:PUBLIC
DESCRIPTION:Nilz Bokelberg lädt uns ins Büdchen seines Lebens ein: Seit 3
 0 Jahren ist er im Geschäft. Nur: In welchem überhaupt? Er ist Moderator
 \, Podcaster\, Autor und DJ\, aber arbeitet im Laufe der Jahre auch als Mu
 siker\, Sprecher\, Regisseur\, Schauspieler\, Komiker\, Kritiker und in de
 n wildesten Momenten als Comic-Zeichner. Das ist ja keine Mischkalkulation
  mehr\, das ist absolutes Chaos. Ein Mann wie das A-Team\, aber alle in ei
 ner Person. Und alle sind Murdock.\n\nWie man dabei den Überblick behält
  und sich durch so einen Dschungel an Aufgaben\, aber auch Möglichkeiten 
 navigiert\, erzählt er uns bei seinem großen Solo-Abend. Dabei lädt er 
 uns an sein Büdchenfenster ein\, erzählt von den wilden Anfangstagen bei
  VIVA\, spielt uns Lieder auf der Ukulele vor\, erklärt uns unsere Liebli
 ngs-Plattencover und malt live einen Comic\, mit seinem selbsterfundenen s
 eltsamen Lieblingsheld. Ein Abend\, so weird\, aufregend\, schön\, nostal
 gisch\, liebenswert und unberechenbar\, wie eben eine richtig gute\, gemis
 chte Tüte vom Büdchen (aber ohne Lakritze!).\n\nKontakt:\n\nKulturwebere
 i\nOscar-Kjellberg-Straße 9\n03238 Finsterwalde\nTelefon: +49 03531 51631
 10\nEmail: kulturweberei@finsterwalde.de\nWebseite: https://www.kulturwebe
 rei.com/\n\nWeitere Informationen zur Veranstaltung: http://www.reiseregio
 n-flaeming.de/veranstaltung/elbe-elster-land/niz-bokelberg
CATEGORIES:Theater / Tanz / Kabarett
DTSTAMP:20260426T005409Z
END:VEVENT
END:VCALENDAR