BEGIN:VCALENDAR
VERSION:2.0
PRODID:www.reiseregion-flaeming.de
BEGIN:VEVENT
UID:69eb7f469c882
DTSTART:20260515T173000Z
SEQUENCE:0
TRANSP:OPAQUE
DTEND:20260515T183000Z
URL:http://www.reiseregion-flaeming.de/veranstaltung/potsdam/galaxien-von-d
 er-milchstrasse-in-den-kosmos
LOCATION:Urania-Planetarium\, Gutenbergstr. 71-72\, 14467 Potsdam
X-APPLE-STRUCTURED-LOCATION;VALUE=URI;X-ADDRESS="Urania-Planetarium, Gutenb
 ergstr. 71-72, 14467 Potsdam";X-APPLE-RADIUS=49;X-TITLE=Urania-Planetarium
 :geo:13.061857,52.402346
GEO:13.061857;52.402346
SUMMARY:Galaxien - Von der Milchstraße in den Kosmos
CLASS:PUBLIC
DESCRIPTION:Eine Reise zu den Galaxien - Live im Planetarium moderiert und 
 in 360° visualisiert\n\nAuf dieser intergalaktischen Reise durch das All 
 bringen wir Sie in atemberaubenden 360°-Darstellungen ganz nah an ferne S
 terneninseln heran. Mit musikalischer Begleitung wartet ein Zauber für di
 e Sinne auf Sie. Außerdem wollen wir Ihnen auch spannende Fragen beantwor
 ten: Wie konnte es eigentlich dazu kommen\, dass sich Milliarden von Stern
 en zu Galaxien zusammenballen? Und woraus besteht eine Galaxie? Kommen Sie
  mit auf die Reise!\n\nReservierung empfohlen.\n\nKontakt:\n\nURANIA-Plane
 tarium\nGutenbergstraße 71-72\n14467 Potsdam\nTelefon: +49 331 2702721\nE
 mail: planetarium@urania-potsdam.de\nWebseite: http://urania-planetarium.d
 e\n\nWeitere Informationen zur Veranstaltung: http://www.reiseregion-flaem
 ing.de/veranstaltung/potsdam/galaxien-von-der-milchstrasse-in-den-kosmos
CATEGORIES:Lesung / Vortrag,Führung / Besichtigung
DTSTAMP:20260424T143342Z
END:VEVENT
BEGIN:VEVENT
UID:69eb7f46d9ae6
DTSTART:20260717T173000Z
SEQUENCE:0
TRANSP:OPAQUE
DTEND:20260717T183000Z
URL:http://www.reiseregion-flaeming.de/veranstaltung/potsdam/galaxien-von-d
 er-milchstrasse-in-den-kosmos
LOCATION:Urania-Planetarium\, Gutenbergstr. 71-72\, 14467 Potsdam
X-APPLE-STRUCTURED-LOCATION;VALUE=URI;X-ADDRESS="Urania-Planetarium, Gutenb
 ergstr. 71-72, 14467 Potsdam";X-APPLE-RADIUS=49;X-TITLE=Urania-Planetarium
 :geo:13.061857,52.402346
GEO:13.061857;52.402346
SUMMARY:Galaxien - Von der Milchstraße in den Kosmos
CLASS:PUBLIC
DESCRIPTION:Eine Reise zu den Galaxien - Live im Planetarium moderiert und 
 in 360° visualisiert\n\nAuf dieser intergalaktischen Reise durch das All 
 bringen wir Sie in atemberaubenden 360°-Darstellungen ganz nah an ferne S
 terneninseln heran. Mit musikalischer Begleitung wartet ein Zauber für di
 e Sinne auf Sie. Außerdem wollen wir Ihnen auch spannende Fragen beantwor
 ten: Wie konnte es eigentlich dazu kommen\, dass sich Milliarden von Stern
 en zu Galaxien zusammenballen? Und woraus besteht eine Galaxie? Kommen Sie
  mit auf die Reise!\n\nReservierung empfohlen.\n\nKontakt:\n\nURANIA-Plane
 tarium\nGutenbergstraße 71-72\n14467 Potsdam\nTelefon: +49 331 2702721\nE
 mail: planetarium@urania-potsdam.de\nWebseite: http://urania-planetarium.d
 e\n\nWeitere Informationen zur Veranstaltung: http://www.reiseregion-flaem
 ing.de/veranstaltung/potsdam/galaxien-von-der-milchstrasse-in-den-kosmos
CATEGORIES:Lesung / Vortrag,Führung / Besichtigung
DTSTAMP:20260424T143342Z
END:VEVENT
END:VCALENDAR