BEGIN:VCALENDAR
VERSION:2.0
PRODID:www.reiseregion-flaeming.de
BEGIN:VEVENT
UID:69ed885772964
DTSTART:20260802T080000Z
SEQUENCE:0
TRANSP:OPAQUE
DTEND:20260802T140000Z
URL:http://www.reiseregion-flaeming.de/veranstaltung/seenland-oder-spree/7-
 scharmuetzelsee-triathlon
LOCATION:Erich-Weinert-Platz\, Seestraße\,  Bad Saarow
X-APPLE-STRUCTURED-LOCATION;VALUE=URI;X-ADDRESS="Erich-Weinert-Platz, Seest
 raße,  Bad Saarow";X-APPLE-RADIUS=49;X-TITLE=Erich-Weinert-Platz:geo:14.0
 46112,52.290829
GEO:14.046112;52.290829
SUMMARY:7. Scharmützelsee-Triathlon
CLASS:PUBLIC
DESCRIPTION:Der Scharmützelsee Triathlon geht mit verschiedenen Wettkämpf
 en in seine 7. Runde.  \nZuschauer sind zum Mietfiebern und Anfeuern an de
 r Strecke herzlich eingeladen.\n\n_Startzeiten der einzelnen Wettkämpfe:_
   \nSprintdistanz 1. Welle (WK1) - Frauen ab Jahrg. 2010 - **10.00 Uhr** 0
 \,75 - 20 - 5 km  \nSprintdistanz 1. Welle (WK1) - Männer Jahrg. 1987-200
 9 - **10.00 Uhr** 0\,75 - 20 - 5 km  \nSprintdistanz 2. Welle (WK1) - Män
 ner ab Jahrg. 1986 - **10.10 Uhr** 0\,75 - 20 - 5 km  \nSprintdistanz 2. W
 elle Staffeln (WK2) - ab Jahrg. 2010 - **10.10 Uhr** 0\,75 - 20 - 5 km  \n
 Kurzdistanz 1. Welle (WK3) - alle AK - **11.00 Uhr** 1\,5 - 38 - 10 km\n\n
 Kontakt:\n\nTriathlonverein Fürstenwalde 1990 e.V.\n\n \nTelefon: \nEmail
 : \n\nWeitere Informationen zur Veranstaltung: http://www.reiseregion-flae
 ming.de/veranstaltung/seenland-oder-spree/7-scharmuetzelsee-triathlon
CATEGORIES:Sport
DTSTAMP:20260426T033655Z
END:VEVENT
END:VCALENDAR