BEGIN:VCALENDAR
VERSION:2.0
PRODID:www.reiseregion-flaeming.de
BEGIN:VEVENT
UID:69ed1473d38c8
DTSTART:20260712T130000Z
SEQUENCE:0
TRANSP:OPAQUE
DTEND:20260712T150000Z
URL:http://www.reiseregion-flaeming.de/veranstaltung/elbe-elster-land/kuens
 tler-aus-der-region-lars-weber-duo-miriam-und-michael-kreher-sowie-sebasti
 an-poeschl
LOCATION:Pfarrgarten Saxdorf\, Hauptstraße 5\, 04895 Saxdorf
X-APPLE-STRUCTURED-LOCATION;VALUE=URI;X-ADDRESS="Pfarrgarten Saxdorf, Haupt
 straße 5, 04895 Saxdorf";X-APPLE-RADIUS=49;X-TITLE=Pfarrgarten Saxdorf:ge
 o:13.284606,51.501871
GEO:13.284606;51.501871
SUMMARY:Künstler aus der Region: Lars-Weber-Duo\, Miriam & Michael Kreher 
 sowie Sebastian Pöschl
CLASS:PUBLIC
DESCRIPTION:Ein besonderes Konzert professioneller Künstler aus der Region
  vorstellen. Das Lars-Weber-Duo (Marimbaphone)\, Miriam & Michael Kreher (
 Saxophone) sowie Sebastian Pöschl (Piano/Gesang) musizieren im Garten –
  sofern es das Wetter zulässt. Konzerte mitten im Garten haben einen beso
 nderen Charme\, denn die verschiedenen Gartenräume haben jeweils eine gan
 z eigene Atmosphäre. Lassen Sie sich überraschen\, was den Musikern dazu
  einfällt. Vor und nach dem Konzert wird Kaffee\, Kuchen und Getränke an
 geboten sowie die Möglichkeit\, den Garten zu besuchen. Tickets können v
 or der Veranstaltung vor Ort erworben werden oder per Mail reserviert werd
 en.\n\nKontakt:\n\nKunst- und Kultursommer Saxdorf e.V.\nHauptstraße 5\n0
 4895 Saxdorf\nTelefon: +49 35365 8390\nEmail: kontakt@saxdorf.de\n\nWeiter
 e Informationen zur Veranstaltung: http://www.reiseregion-flaeming.de/vera
 nstaltung/elbe-elster-land/kuenstler-aus-der-region-lars-weber-duo-miriam-
 und-michael-kreher-sowie-sebastian-poeschl
CATEGORIES:Rock / Pop / Jazz,Klassisches Konzert / Oper
DTSTAMP:20260425T192227Z
END:VEVENT
END:VCALENDAR