BEGIN:VCALENDAR
VERSION:2.0
PRODID:www.reiseregion-flaeming.de
BEGIN:VEVENT
UID:69ed29e0aec05
DTSTART:20260919T070000Z
SEQUENCE:0
TRANSP:OPAQUE
DTEND:20260919T100000Z
URL:http://www.reiseregion-flaeming.de/veranstaltung/elbe-elster-land/herbs
 tputz
LOCATION:Pomologischer Schau- und Lehrgarten Döllingen\, An der Umgehungss
 traße\, 04928 Döllingen
X-APPLE-STRUCTURED-LOCATION;VALUE=URI;X-ADDRESS="Pomologischer Schau- und L
 ehrgarten Döllingen, An der Umgehungsstraße, 04928 Döllingen";X-APPLE-R
 ADIUS=49;X-TITLE=Pomologischer Schau- und Lehrgarten Döllingen:geo:13.583
 813,51.482870
GEO:13.583813;51.482870
SUMMARY:Herbstputz
CLASS:PUBLIC
DESCRIPTION:Das Obstjahr im Pomologischen Garten neigt sich dem Ende zu. De
 r Niederlausitzer Apfeltag steht kurz bevor. Noch einmal soll der Garten a
 uf Vordermann gebracht werden. Dazu sind alle Freiwilligen ganz herzlich e
 ingeladen. \n\nGartenwerkzeuge können gern mitgebracht werden.\n\nKontakt
 :\n\nKerngehäuse e.V.\nAn der Umgehungsstraße\n04928 Döllingen\nTelefon
 : +49 035341 615-12\nEmail: \n\nWeitere Informationen zur Veranstaltung: h
 ttp://www.reiseregion-flaeming.de/veranstaltung/elbe-elster-land/herbstput
 z
CATEGORIES:Workshop / Seminar
DTSTAMP:20260425T205352Z
END:VEVENT
END:VCALENDAR