BEGIN:VCALENDAR
VERSION:2.0
PRODID:www.reiseregion-flaeming.de
BEGIN:VEVENT
UID:69ed2b1365f07
DTSTART:20260927T080000Z
SEQUENCE:0
TRANSP:OPAQUE
DTEND:20260927T160000Z
URL:http://www.reiseregion-flaeming.de/veranstaltung/elbe-elster-land/31-ni
 ederlausitzer-apfeltag
LOCATION:Pomologischer Schau- und Lehrgarten Döllingen\, An der Umgehungss
 traße\, 04928 Döllingen
X-APPLE-STRUCTURED-LOCATION;VALUE=URI;X-ADDRESS="Pomologischer Schau- und L
 ehrgarten Döllingen, An der Umgehungsstraße, 04928 Döllingen";X-APPLE-R
 ADIUS=49;X-TITLE=Pomologischer Schau- und Lehrgarten Döllingen:geo:13.583
 813,51.482870
GEO:13.583813;51.482870
SUMMARY:31. Niederlausitzer Apfeltag
CLASS:PUBLIC
DESCRIPTION:An diesem Tag dreht sich alles ums Obst im Allgemeinen und den 
 Apfel im Besonderen. Fachwissen wird bei der Sortenbestimmung und beim Bau
 mschnitt vermittelt. Etwa 100 Sorten werden in einer Apfelausstellung geze
 igt. Zwei Apfelköche zaubern leckere Rezepte zum Kosten und Nachkochen. E
 s gibt einen Regionalmarkt mit vielfältigen Angeboten und viel Musik.\n\n
 Kontakt:\n\nKerngehäuse e.V.\nAn der Umgehungsstraße\n04928 Döllingen\n
 Telefon: +49 035341 615-12\nEmail: \n\nWeitere Informationen zur Veranstal
 tung: http://www.reiseregion-flaeming.de/veranstaltung/elbe-elster-land/31
 -niederlausitzer-apfeltag
CATEGORIES:Fest / Brauchtum,Führung / Besichtigung,Essen und Trinken,Markt
DTSTAMP:20260425T205859Z
END:VEVENT
END:VCALENDAR