BEGIN:VCALENDAR
VERSION:2.0
PRODID:www.reiseregion-flaeming.de
BEGIN:VEVENT
UID:69e75a384c4ec
DTSTART;VALUE=DATE:20260513
SEQUENCE:0
TRANSP:OPAQUE
DTEND;VALUE=DATE:20260518
URL:http://www.reiseregion-flaeming.de/veranstaltung/havelland/auszeit-base
 nfasten-ueber-himmelfahrt
LOCATION:CapuVita\, Weinbergstr. 9\, 14548 Schwielowsee
X-APPLE-STRUCTURED-LOCATION;VALUE=URI;X-ADDRESS="CapuVita, Weinbergstr. 9, 
 14548 Schwielowsee";X-APPLE-RADIUS=49;X-TITLE=CapuVita:geo:12.987149,52.34
 6340
GEO:12.987149;52.346340
SUMMARY:Auszeit: Basenfasten über Himmelfahrt
CLASS:PUBLIC
DESCRIPTION:Gönnen Sie sich eine bewusste Pause vom Alltag und entdecken S
 ie die wohltuende Wirkung des Basenfastens. Dieses Retreat vereint Ernähr
 ung\, Bewegung und Entspannung zu einem ganzheitlichen Erlebnis für Körp
 er\, Geist und Seele. Durch die gezielte Auswahl basischer Lebensmittel wi
 rd der Körper sanft entsäuert\, das Immunsystem gestärkt und neue Energ
 ie freigesetzt – und das alles ohne Verzicht auf feste Nahrung.  \nBegle
 itet von Yoga\, Pilates\, Meditation und Wanderungen unterstützt das Prog
 ramm die natürliche Regeneration und sorgt für nachhaltige Leichtigkeit.
  In Workshops erfahren Sie Wissenswertes über Basen- und Intervallfasten\
 , erhalten Rezepte\, Tipps und Anleitungen für eine gesunde Ernährung un
 d können Ihr Wissen direkt in Kochkursen umsetzen.  \nEin besonderes High
 light ist die Kräuterwanderung\, bei der Wildkräuter entdeckt und verarb
 eitet werden. Gemeinsame Mahlzeiten im Café Heimath runden die Tage genus
 svoll ab – für Vitalität\, Balance und Wohlbefinden.\n\n7 - 14 Teilneh
 mende\n\nKontakt:\n\nMaria Gildemeister\, Ernährungsberaterin\n\n \nTelef
 on: +49 33209 72652\nEmail: fortunaoliva@outlook.de\nWebseite: http://www.
 fortunaoliva.com\n\nWeitere Informationen zur Veranstaltung: http://www.re
 iseregion-flaeming.de/veranstaltung/havelland/auszeit-basenfasten-ueber-hi
 mmelfahrt
X-MICROSOFT-CDO-ALLDAYEVENT:TRUE
CATEGORIES:Wellness / Gesundheit,Workshop / Seminar
DTSTAMP:20260421T110632Z
END:VEVENT
END:VCALENDAR